Workbook

Sheet г.Сатпаев 
B3: Реестр данных по загрузке подстанции ПЭС ТОО "Казахмыс Дистрибьюшн" за сентябрь 2026 года
A7: п/п № | B7: Наименование ПС | E7: Адрес нахождения | F7: Цех | G7: Уровень напряжения, кВ | H7: Мощность трансформатора,кВА | I7: нагрузка ,в кВт.час | J7: нагрузка ,в МВт | K7: максимальная нагрузка,кВт | L7: максимальная нагрузка,МВт | M7: % загрузки | N7: Свободная мощность,МВт
C8: №
B9: г.Сатпаев
A10: 1 | B10: ЦРП-1 | D10: Тр №1 | E10: г.Сатпаев | F10: ЦСЭС | G10: 35/6 | H10: 6300 | I10: 1217520 | J10: =I10/744/1000 -> 1.6364516 | K10: =H10*744*1.38 -> 6468336 | L10: =K10/744/1000 -> 8.694 | M10: =(I10/K10)*100 -> 18.82277 | N10: =H10/1000*0.8-J10 -> 3.4035484
D11: Тр №2 | E11: г.Сатпаев | G11: 35/6 | H11: 6300 | I11: 1431480 | J11: =I11/744/1000 -> 1.9240323 | K11: =H11*744*1.38 -> 6468336 | L11: =K11/744/1000 -> 8.694 | M11: =(I11/K11)*100 -> 22.130576 | N11: =H11/1000*0.8-J11 -> 3.1159677
A12: 2 | B12: ЦРП-2 | D12: Тр №1 | E12: г.Сатпаев | F12: ЦСЭС | G12: 35/6 | H12: 6300 | I12: 1091520 | J12: =I12/744/1000 -> 1.4670968 | K12: =H12*744*1.38 -> 6468336 | L12: =K12/744/1000 -> 8.694 | M12: =(I12/K12)*100 -> 16.874819 | N12: =H12/1000*0.8-J12 -> 3.5729032
D13: Тр №2 | E13: г.Сатпаев | G13: 35/6 | H13: 6300 | I13: 763920 | J13: =I13/744/1000 -> 1.0267742 | K13: =H13*744*1.38 -> 6468336 | L13: =K13/744/1000 -> 8.694 | M13: =(I13/K13)*100 -> 11.810147 | N13: =H13/1000*0.8-J13 -> 4.0132258
A14: 3 | B14: ЦРП-3 | D14: Тр №1 | E14: г.Сатпаев | F14: ЦСЭС | G14: 35/6 | H14: 10000 | I14: 1696512 | J14: =I14/744/1000 -> 2.2802581 | K14: =H14*744*1.38 -> 10267200 | L14: =K14/744/1000 -> 13.8 | M14: =(I14/K14)*100 -> 16.523609 | N14: =H14/1000*0.8-J14 -> 5.7197419
D15: Тр №2 | E15: г.Сатпаев | G15: 35/6 | H15: 10000 | I15: 1314144 | J15: =I15/744/1000 -> 1.7663226 | K15: =H15*744*1.38 -> 10267200 | L15: =K15/744/1000 -> 13.8 | M15: =(I15/K15)*100 -> 12.799439 | N15: =H15/1000*0.8-J15 -> 6.2336774
A16: 4 | B16: ЦРП-4 | D16: Тр №1 | E16: г.Сатпаев | F16: ЦСЭС | G16: 35/6 | H16: 10000 | I16: 1385280 | J16: =I16/744/1000 -> 1.8619355 | K16: =H16*744*1.38 -> 10267200 | L16: =K16/744/1000 -> 13.8 | M16: =(I16/K16)*100 -> 13.492286 | N16: =H16/1000*0.8-J16 -> 6.1380645
D17: Тр №2 | E17: г.Сатпаев | G17: 35/6 | H17: 10000 | I17: 514440 | J17: =I17/744/1000 -> 0.69145161 | K17: =H17*744*1.38 -> 10267200 | L17: =K17/744/1000 -> 13.8 | M17: =(I17/K17)*100 -> 5.0105189 | N17: =H17/1000*0.8-J17 -> 7.3085484
A18: 5 | B18: ЦРП-5 | D18: Тр №1 | E18: г.Сатпаев | F18: ЦСЭС | G18: 35/6 | H18: 10000 | I18: 123360 | J18: =I18/744/1000 -> 0.16580645 | K18: =H18*744*1.38 -> 10267200 | L18: =K18/744/1000 -> 13.8 | M18: =(I18/K18)*100 -> 1.201496 | N18: =H18/1000*0.8-J18 -> 7.8341935
D19: Тр №2 | E19: г.Сатпаев | G19: 35/6 | H19: 10000 | I19: 923280 | J19: =I19/744/1000 -> 1.2409677 | K19: =H19*744*1.38 -> 10267200 | L19: =K19/744/1000 -> 13.8 | M19: =(I19/K19)*100 -> 8.9925199 | N19: =H19/1000*0.8-J19 -> 6.7590323
A20: 6 | B20: ЦРП- 3-го подъема | D20: Тр №1 | E20: г.Сатпаев | F20: ЦСЭС | G20: 35/6 | H20: 1000 | I20: 14800 | J20: =I20/744/1000 -> 0.019892473 | K20: =H20*744*1.38 -> 1026720 | L20: =K20/744/1000 -> 1.38 | M20: =(I20/K20)*100 -> 1.4414836 | N20: =H20/1000*0.8-J20 -> 0.78010753
D21: Тр №2 | E21: г.Сатпаев | F21: ЦСЭС | G21: 35/6 | H21: 1000 | I21: 10000 | J21: =I21/744/1000 -> 0.01344086 | K21: =H21*744*1.38 -> 1026720 | L21: =K21/744/1000 -> 1.38 | M21: =(I21/K21)*100 -> 0.97397538 | N21: =H21/1000*0.8-J21 -> 0.78655914
A22: 7 | B22: ТП-1 мкр-1 | C22: NF003707 | D22: Тр №1 | E22: г.Сатпаев мкр 1 | F22: ЦСЭС | G22: 6/0,4 | H22: 630 | I22: 140400 | J22: =I22/744/1000 -> 0.18870968 | K22: =H22*744*1.38 -> 646833.6 | L22: =K22/744/1000 -> 0.8694 | M22: =(I22/K22)*100 -> 21.705737 | N22: =H22/1000*0.8-J22 -> 0.31529032
B23: ТП-ДРМСУ | C23: 21718489 | D23: Тр №1 | E23: г.Сатпаев, промзона | F23: ЦСЭС | G23: 6/0,4 | H23: 630 | I23: 2109 | J23: =I23/744/1000 -> 0.0028346774 | K23: =H23*744*1.38 -> 646833.6 | L23: =K23/744/1000 -> 0.8694 | M23: =(I23/K23)*100 -> 0.32604985 | N23: =H23/1000*0.8-J23 -> 0.50116532
A24: 8 | B24: ТП - 9 квартал | C24: 3738 | D24: Тр №1 | E24: г.Сатпаев 9 квартал | F24: ЦСЭС | G24: 6/0,4 | H24: 630 | I24: 91200 | J24: =I24/744/1000 -> 0.12258065 | K24: =H24*744*1.38 -> 646833.6 | L24: =K24/744/1000 -> 0.8694 | M24: =(I24/K24)*100 -> 14.099453 | N24: =H24/1000*0.8-J24 -> 0.38141935
B25: ТП - 10 квартал | C25: NF004037 | D25: Тр №1 | E25: г.Сатпаев 10 квартал | F25: ЦСЭС | G25: 6/0,4 | H25: 630 | I25: 101200 | J25: =I25/744/1000 -> 0.13602151 | K25: =H25*744*1.38 -> 646833.6 | L25: =K25/744/1000 -> 0.8694 | M25: =(I25/K25)*100 -> 15.645446 | N25: =H25/1000*0.8-J25 -> 0.36797849
A26: 9 | B26: ТП - 21 квартал | C26: NF004061 | D26: Тр №1 | E26: г.Сатпаев 21 квартал | F26: ЦСЭС | G26: 6/0,4 | H26: 630 | I26: 20640 | J26: =I26/744/1000 -> 0.027741935 | K26: =H26*744*1.38 -> 646833.6 | L26: =K26/744/1000 -> 0.8694 | M26: =(I26/K26)*100 -> 3.1909289 | N26: =H26/1000*0.8-J26 -> 0.47625806
B27: ТП -2 Западный район | C27: 8331578 | D27: Тр №1 | E27: г.Сатпаев Западный район | F27: ЦСЭС | G27: 6/0,4 | H27: 630 | I27: 107652.2 | J27: =I27/744/1000 -> 0.14469382 | K27: =H27*744*1.38 -> 646833.6 | L27: =K27/744/1000 -> 0.8694 | M27: =(I27/K27)*100 -> 16.642951 | N27: =H27/1000*0.8-J27 -> 0.35930618
A28: 10 | B28: ТП-ПЭС№2 | D28: Тр №1 | E28: г.Сатпаев промзона | F28: ЦСЭС | G28: 6/0,4 | H28: 630 | I28: 15348 | J28: =I28/744/1000 -> 0.020629032 | K28: =H28*744*1.38 -> 646833.6 | L28: =K28/744/1000 -> 0.8694 | M28: =(I28/K28)*100 -> 2.3727895 | N28: =H28/1000*0.8-J28 -> 0.48337097
A29: 11 | B29: ТП-4 мкр-3/4 | C29: 11178633 | D29: Тр №1 | E29: г.Сатпаев мкр 3-4 | F29: ЦСЭС | G29: 6/0,4 | H29: 630 | I29: 102000 | J29: =I29/744/1000 -> 0.13709677 | K29: =H29*744*1.38 -> 646833.6 | L29: =K29/744/1000 -> 0.8694 | M29: =(I29/K29)*100 -> 15.769125 | N29: =H29/1000*0.8-J29 -> 0.36690323
C30: 13055064 | D30: Тр №2 | E30: г.Сатпаев мкр 3-4 | G30: 6/0,4 | H30: 630 | I30: 126120 | J30: =I30/744/1000 -> 0.16951613 | K30: =H30*744*1.38 -> 646833.6 | L30: =K30/744/1000 -> 0.8694 | M30: =(I30/K30)*100 -> 19.498059 | N30: =H30/1000*0.8-J30 -> 0.33448387
A31: 12 | B31: ТП-10 мкр- 3/4 | C31: 3693 | D31: Тр №1 | E31: г.Сатпаев мкр 3-4 | F31: ЦСЭС | G31: 6/0,4 | H31: 560 | I31: 155800 | J31: =I31/744/1000 -> 0.2094086 | K31: =H31*744*1.38 -> 574963.2 | L31: =K31/744/1000 -> 0.7728 | M31: =(I31/K31)*100 -> 27.097386 | N31: =H31/1000*0.8-J31 -> 0.2385914
C32: 3851 | D32: Тр №2 | E32: г.Сатпаев мкр 3-4 | G32: 6/0,4 | H32: 630 | I32: 142800 | J32: =I32/744/1000 -> 0.19193548 | K32: =H32*744*1.38 -> 646833.6 | L32: =K32/744/1000 -> 0.8694 | M32: =(I32/K32)*100 -> 22.076775 | N32: =H32/1000*0.8-J32 -> 0.31206452
A33: 13 | B33: ТП-12 мкр- 3/4 | C33: 3863 | D33: Тр №1 | E33: г.Сатпаев мкр 3-4 | F33: ЦСЭС | G33: 6/0,4 | H33: 630 | I33: 59640 | J33: =I33/744/1000 -> 0.08016129 | K33: =H33*744*1.38 -> 646833.6 | L33: =K33/744/1000 -> 0.8694 | M33: =(I33/K33)*100 -> 9.2203002 | N33: =H33/1000*0.8-J33 -> 0.42383871
A34: 14 | B34: ТП-1 мкр- 7 | C34: 11178797 | D34: Тр №1 | E34: г.Сатпаев мкр 7 | F34: ЦСЭС | G34: 6/0,4 | H34: 1000 | I34: 79200 | J34: =I34/744/1000 -> 0.10645161 | K34: =H34*744*1.38 -> 1026720 | L34: =K34/744/1000 -> 1.38 | M34: =(I34/K34)*100 -> 7.713885 | N34: =H34/1000*0.8-J34 -> 0.69354839
C35: 11178762 | D35: Тр №2 | E35: г.Сатпаев мкр 7 | G35: 6/0,4 | H35: 630 | I35: 92640 | J35: =I35/744/1000 -> 0.12451613 | K35: =H35*744*1.38 -> 646833.6 | L35: =K35/744/1000 -> 0.8694 | M35: =(I35/K35)*100 -> 14.322076 | N35: =H35/1000*0.8-J35 -> 0.37948387
A36: 15 | B36: ТП- 2 мкр- 7 | C36: 38574161 | D36: Тр №1 | E36: г.Сатпаев мкр 7 | F36: ЦСЭС | G36: 6/0,4 | H36: 1000 | I36: 116600 | J36: =I36/744/1000 -> 0.15672043 | K36: =H36*744*1.38 -> 1026720 | L36: =K36/744/1000 -> 1.38 | M36: =(I36/K36)*100 -> 11.356553 | N36: =H36/1000*0.8-J36 -> 0.64327957
C37: 13140702 | D37: Тр №2 | E37: г.Сатпаев мкр 7 | G37: 6/0,4 | H37: 630 | I37: 123800 | J37: =I37/744/1000 -> 0.16639785 | K37: =H37*744*1.38 -> 646833.6 | L37: =K37/744/1000 -> 0.8694 | M37: =(I37/K37)*100 -> 19.139389 | N37: =H37/1000*0.8-J37 -> 0.33760215
A38: 16 | B38: ТП-3 мкр- 7 | C38: 37874357 | D38: Тр №1 | E38: г.Сатпаев мкр 7 | F38: ЦСЭС | G38: 6/0,4 | H38: 630 | I38: 83040 | J38: =I38/744/1000 -> 0.1116129 | K38: =H38*744*1.38 -> 646833.6 | L38: =K38/744/1000 -> 0.8694 | M38: =(I38/K38)*100 -> 12.837923 | N38: =H38/1000*0.8-J38 -> 0.3923871
C39: 37876535 | D39: Тр №2 | E39: г.Сатпаев мкр 7 | G39: 6/0,4 | H39: 630 | I39: 139440 | J39: =I39/744/1000 -> 0.18741935 | K39: =H39*744*1.38 -> 646833.6 | L39: =K39/744/1000 -> 0.8694 | M39: =(I39/K39)*100 -> 21.557322 | N39: =H39/1000*0.8-J39 -> 0.31658065
A40: 17 | B40: ТП-2 СОК | C40: 8957620 | D40: Тр №1 | E40: г.Сатпаев мкр 5 | F40: ЦСЭС | G40: 6/0,4 | H40: 630 | I40: 1400 | J40: =I40/744/1000 -> 0.0018817204 | K40: =H40*744*1.38 -> 646833.6 | L40: =K40/744/1000 -> 0.8694 | M40: =(I40/K40)*100 -> 0.21643897 | N40: =H40/1000*0.8-J40 -> 0.50211828
C41: 8961818 | D41: Тр №2 | E41: г.Сатпаев мкр 5 | G41: 6/0,4 | H41: 630 | I41: 1800 | J41: =I41/744/1000 -> 0.0024193548 | K41: =H41*744*1.38 -> 646833.6 | L41: =K41/744/1000 -> 0.8694 | M41: =(I41/K41)*100 -> 0.27827868 | N41: =H41/1000*0.8-J41 -> 0.50158065
A42: 18 | B42: КТП-1 СОК | C42: 8963723 | D42: Тр №1 | E42: г.Сатпаев мкр 5 | F42: ЦСЭС | G42: 6/0,4 | H42: 1600 | I42: 40000 | J42: =I42/744/1000 -> 0.053763441 | K42: =H42*744*1.38 -> 1642752 | L42: =K42/744/1000 -> 2.208 | M42: =(I42/K42)*100 -> 2.4349384 | N42: =H42/1000*0.8-J42 -> 1.2262366
C43: 8963809 | D43: Тр №2 | E43: г.Сатпаев мкр 5 | G43: 6/0,4 | H43: 1600 | I43: 80800 | J43: =I43/744/1000 -> 0.10860215 | K43: =H43*744*1.38 -> 1642752 | L43: =K43/744/1000 -> 2.208 | M43: =(I43/K43)*100 -> 4.9185757 | N43: =H43/1000*0.8-J43 -> 1.1713978
A44: 19 | B44: ТП-Гл.фекальная | C44: 441761 | D44: Тр №1 | E44: г.Сатпаев ,промзона | F44: ЦСЭС | G44: 6/0,4 | H44: 630 | I44: 22440 | J44: =I44/744/1000 -> 0.03016129 | K44: =H44*744*1.38 -> 646833.6 | L44: =K44/744/1000 -> 0.8694 | M44: =(I44/K44)*100 -> 3.4692075 | N44: =H44/1000*0.8-J44 -> 0.47383871
C45: 656260 | D45: Тр №2 | E45: г.Сатпаев ,промзона | G45: 6/0,4 | H45: 400 | I45: 14640 | J45: =I45/744/1000 -> 0.019677419 | K45: =H45*744*1.38 -> 410688 | L45: =K45/744/1000 -> 0.552 | M45: =(I45/K45)*100 -> 3.5647499 | N45: =H45/1000*0.8-J45 -> 0.30032258
A46: 20 | B46: ТП-Байконур | C46: 3813 | D46: Тр №1 | E46: г.Сатпаев мкр 6 | F46: ЦСЭС | G46: 6/0,4 | H46: 630 | I46: 3760 | J46: =I46/744/1000 -> 0.0050537634 | K46: =H46*744*1.38 -> 646833.6 | L46: =K46/744/1000 -> 0.8694 | M46: =(I46/K46)*100 -> 0.58129324 | N46: =H46/1000*0.8-J46 -> 0.49894624
C47: 3692 | D47: Тр №2 | E47: г.Сатпаев мкр 6 | G47: 6/0,4 | H47: 630 | I47: 16200 | J47: =I47/744/1000 -> 0.021774194 | K47: =H47*744*1.38 -> 646833.6 | L47: =K47/744/1000 -> 0.8694 | M47: =(I47/K47)*100 -> 2.5045081 | N47: =H47/1000*0.8-J47 -> 0.48222581
A48: 21 | B48: ТП-2 мкр- 5 | C48: NF003718 | D48: Тр №1 | E48: г.Сатпаев мкр 5 | F48: ЦСЭС | G48: 6/0,4 | H48: 250 | I48: 97800 | J48: =I48/744/1000 -> 0.13145161 | K48: =H48*744*1.38 -> 256680 | L48: =K48/744/1000 -> 0.345 | M48: =(I48/K48)*100 -> 38.101917 | N48: =H48/1000*0.8-J48 -> 0.068548387
A49: 22 | B49: ТП-2 мкр- 1 | C49: NF003655 | D49: Тр №1 | E49: г.Сатпаев мкр 1 | F49: ЦСЭС | G49: 6/0,4 | H49: 400 | I49: 64200 | J49: =I49/744/1000 -> 0.086290323 | K49: =H49*744*1.38 -> 410688 | L49: =K49/744/1000 -> 0.552 | M49: =(I49/K49)*100 -> 15.632305 | N49: =H49/1000*0.8-J49 -> 0.23370968
A50: 23 | B50: ТП-3 мкр- 1 | C50: 13133694 | D50: Тр №1 | E50: г.Сатпаев мкр 1 | F50: ЦСЭС | G50: 6/0,4 | H50: 400 | I50: 79440 | J50: =I50/744/1000 -> 0.10677419 | K50: =H50*744*1.38 -> 410688 | L50: =K50/744/1000 -> 0.552 | M50: =(I50/K50)*100 -> 19.343151 | N50: =H50/1000*0.8-J50 -> 0.21322581
A51: 24 | B51: ТП-4 мкр- 1 | C51: 3749 | D51: Тр №1 | E51: г.Сатпаев мкр 1 | F51: ЦСЭС | G51: 6/0,4 | H51: 630 | I51: 104520 | J51: =I51/744/1000 -> 0.14048387 | K51: =H51*744*1.38 -> 646833.6 | L51: =K51/744/1000 -> 0.8694 | M51: =(I51/K51)*100 -> 16.158715 | N51: =H51/1000*0.8-J51 -> 0.36351613
A52: 25 | B52: ТП-5 мкр- 1 | C52: 28765307 | D52: Тр №1 | E52: 120 | F52: 38893 | G52: 6/0,4 | H52: 630 | I52: 91680 | J52: =I52/744/1000 -> 0.12322581 | K52: =H52*744*1.38 -> 646833.6 | L52: =K52/744/1000 -> 0.8694 | M52: =(I52/K52)*100 -> 14.173661 | N52: =H52/1000*0.8-J52 -> 0.38077419
A53: 26 | B53: ТП-6 мкр- 1 | C53: 3786 | D53: Тр №1 | E53: г.Сатпаев мкр 1 | F53: ЦСЭС | G53: 6/0,4 | H53: 400 | I53: 83280 | J53: =I53/744/1000 -> 0.11193548 | K53: =H53*744*1.38 -> 410688 | L53: =K53/744/1000 -> 0.552 | M53: =(I53/K53)*100 -> 20.278167 | N53: =H53/1000*0.8-J53 -> 0.20806452
A54: 27 | B54: ТП-7 мкр- 1 | C54: 3741 | D54: Тр №1 | E54: г.Сатпаев мкр 1 | F54: ЦСЭС | G54: 6/0,4 | H54: 320 | I54: 75120 | J54: =I54/744/1000 -> 0.10096774 | K54: =H54*744*1.38 -> 328550.4 | L54: =K54/744/1000 -> 0.4416 | M54: =(I54/K54)*100 -> 22.864072 | N54: =H54/1000*0.8-J54 -> 0.15503226
A55: 28 | B55: ТП-1 мкр- 2 | C55: 3835 | D55: Тр №1 | E55: г.Сатпаев мкр 2 | F55: ЦСЭС | G55: 6/0,4 | H55: 320 | I55: 101880 | J55: =I55/744/1000 -> 0.13693548 | K55: =H55*744*1.38 -> 328550.4 | L55: =K55/744/1000 -> 0.4416 | M55: =(I55/K55)*100 -> 31.008941 | N55: =H55/1000*0.8-J55 -> 0.11906452
A56: 29 | B56: ТП-2 мкр 2 | C56: 3797 | D56: Тр №1 | E56: г.Сатпаев мкр 2 | F56: ЦСЭС | G56: 6/0,4 | H56: 400 | I56: 73200 | J56: =I56/744/1000 -> 0.098387097 | K56: =H56*744*1.38 -> 410688 | L56: =K56/744/1000 -> 0.552 | M56: =(I56/K56)*100 -> 17.823749 | N56: =H56/1000*0.8-J56 -> 0.2216129
A57: 30 | B57: КТП-2а м-н2 | C57: 13035087 | D57: Тр №1 | E57: г.Сатпаев мкр 2 | F57: ЦСЭС | G57: 6/0,4 | H57: 320 | I57: 50880 | J57: =I57/744/1000 -> 0.068387097 | K57: =H57*744*1.38 -> 328550.4 | L57: =K57/744/1000 -> 0.4416 | M57: =(I57/K57)*100 -> 15.486209 | N57: =H57/1000*0.8-J57 -> 0.1876129
A58: 31 | B58: ТП-3 мкр 2 | C58: 3760 | D58: Тр №1 | E58: г.Сатпаев мкр 2 | F58: ЦСЭС | G58: 6/0,4 | H58: 630 | I58: 118800 | J58: =I58/744/1000 -> 0.15967742 | K58: =H58*744*1.38 -> 646833.6 | L58: =K58/744/1000 -> 0.8694 | M58: =(I58/K58)*100 -> 18.366393 | N58: =H58/1000*0.8-J58 -> 0.34432258
A59: 32 | B59: ТП-4 мкр 2 | C59: NF003720 | D59: Тр №1 | E59: г.Сатпаев мкр 2 | F59: ЦСЭС | G59: 6/0,4 | H59: 400 | I59: 125640 | J59: =I59/744/1000 -> 0.16887097 | K59: =H59*744*1.38 -> 410688 | L59: =K59/744/1000 -> 0.552 | M59: =(I59/K59)*100 -> 30.592567 | N59: =H59/1000*0.8-J59 -> 0.15112903
A60: 33 | B60: ТП-5 мкр 2 | C60: ND003746 | D60: Тр №1 | E60: г.Сатпаев мкр 2 | F60: ЦСЭС | G60: 6/0,4 | H60: 320 | I60: 105840 | J60: =I60/744/1000 -> 0.14225806 | K60: =H60*744*1.38 -> 328550.4 | L60: =K60/744/1000 -> 0.4416 | M60: =(I60/K60)*100 -> 32.214236 | N60: =H60/1000*0.8-J60 -> 0.11374194
A61: 34 | B61: ТП-6 мкр- 2 | C61: 11178770 | D61: Тр №1 | E61: г.Сатпаев мкр 2 | F61: ЦСЭС | G61: 6/0,4 | H61: 630 | I61: 188800 | J61: =I61/744/1000 -> 0.25376344 | K61: =H61*744*1.38 -> 646833.6 | L61: =K61/744/1000 -> 0.8694 | M61: =(I61/K61)*100 -> 29.188341 | N61: =H61/1000*0.8-J61 -> 0.25023656
A62: 35 | B62: ТП ТЕХКОЛЛЕДЖ (УМЦ) | C62: 11161552 | D62: Тр №1 | E62: г.Сатпаев мкр 2 | F62: ЦСЭС | G62: 6/0,4 | H62: 250 | I62: 12880 | J62: =I62/744/1000 -> 0.017311828 | K62: =H62*744*1.38 -> 256680 | L62: =K62/744/1000 -> 0.345 | M62: =(I62/K62)*100 -> 5.0179211 | N62: =H62/1000*0.8-J62 -> 0.18268817
A63: 36 | B63: ТП-ЗГШО Модуль | C63: 11178724 | D63: Тр №1 | E63: г.Сатпаев ,промзона | F63: ЦСЭС | G63: 6/0,4 | H63: 1000 | I63: 18320 | J63: =I63/744/1000 -> 0.024623656 | K63: =H63*744*1.38 -> 1026720 | L63: =K63/744/1000 -> 1.38 | M63: =(I63/K63)*100 -> 1.7843229 | N63: =H63/1000*0.8-J63 -> 0.77537634
A64: 37 | B64: ТП-1 мкр- 5 | C64: NF003759 | D64: Тр №1 | E64: г.Сатпаев мкр 5 | F64: ЦСЭС | G64: 6/0,4 | H64: 320 | I64: 61080 | J64: =I64/744/1000 -> 0.082096774 | K64: =H64*744*1.38 -> 328550.4 | L64: =K64/744/1000 -> 0.4416 | M64: =(I64/K64)*100 -> 18.590755 | N64: =H64/1000*0.8-J64 -> 0.17390323
A65: 38 | B65: ТП-2 мкр- 5 | C65: NF003718 | D65: Тр №1 | E65: г.Сатпаев мкр 5 | F65: ЦСЭС | G65: 6/0,4 | H65: 250 | I65: 97800 | J65: =I65/744/1000 -> 0.13145161 | K65: =H65*744*1.38 -> 256680 | L65: =K65/744/1000 -> 0.345 | M65: =(I65/K65)*100 -> 38.101917 | N65: =H65/1000*0.8-J65 -> 0.068548387
A66: 39 | B66: ТП-3 мкр- 5 | C66: NF003711 | D66: Тр №1 | E66: г.Сатпаев мкр 5 | F66: ЦСЭС | G66: 6/0,4 | H66: 320 | I66: 66360 | J66: =I66/744/1000 -> 0.089193548 | K66: =H66*744*1.38 -> 328550.4 | L66: =K66/744/1000 -> 0.4416 | M66: =(I66/K66)*100 -> 20.197814 | N66: =H66/1000*0.8-J66 -> 0.16680645
A67: 40 | B67: КТП-3А мкр- 5 | C67: ND142999 | D67: Тр №1 | E67: г.Сатпаев мкр 5 | F67: ЦСЭС | G67: 6/0,4 | H67: 630 | I67: 81600 | J67: =I67/744/1000 -> 0.10967742 | K67: =H67*744*1.38 -> 646833.6 | L67: =K67/744/1000 -> 0.8694 | M67: =(I67/K67)*100 -> 12.6153 | N67: =H67/1000*0.8-J67 -> 0.39432258
A68: 41 | B68: ТП-4 мкр- 5 | C68: NF003842 | D68: Тр №1 | E68: г.Сатпаев мкр 5 | F68: ЦСЭС | G68: 6/0,4 | H68: 560 | I68: 107000 | J68: =I68/744/1000 -> 0.1438172 | K68: =H68*744*1.38 -> 574963.2 | L68: =K68/744/1000 -> 0.7728 | M68: =(I68/K68)*100 -> 18.609887 | N68: =H68/1000*0.8-J68 -> 0.3041828
A69: 42 | B69: ТП-5 мкр- 5 | C69: NF003706 | D69: Тр №1 | E69: г.Сатпаев мкр 5 | F69: ЦСЭС | G69: 6/0,4 | H69: 560 | I69: 96600 | J69: =I69/744/1000 -> 0.12983871 | K69: =H69*744*1.38 -> 574963.2 | L69: =K69/744/1000 -> 0.7728 | M69: =(I69/K69)*100 -> 16.801075 | N69: =H69/1000*0.8-J69 -> 0.31816129
A70: 43 | B70: ТП-1 квартал 5 | C70: 8642650 | D70: Тр №1 | E70: г.Сатпаев 5 квартал | F70: ЦСЭС | G70: 6/0,4 | H70: 400 | I70: 76308.4 | J70: =I70/744/1000 -> 0.10256505 | K70: =H70*744*1.38 -> 410688 | L70: =K70/744/1000 -> 0.552 | M70: =(I70/K70)*100 -> 18.580626 | N70: =H70/1000*0.8-J70 -> 0.21743495
A71: 44 | B71: ТП-1А квартал 5 | C71: 13109430 | D71: Тр №1 | E71: г.Сатпаев 5 квартал | F71: ЦСЭС | G71: 6/0,4 | H71: 320 | I71: 110880 | J71: =I71/744/1000 -> 0.14903226 | K71: =H71*744*1.38 -> 328550.4 | L71: =K71/744/1000 -> 0.4416 | M71: =(I71/K71)*100 -> 33.748247 | N71: =H71/1000*0.8-J71 -> 0.10696774
A72: 45 | B72: ТП - 11 квартал | C72: 8963636 | D72: Тр №1 | E72: г.Сатпаев 11 квартал | F72: ЦСЭС | G72: 6/0,4 | H72: 320 | I72: 79440 | J72: =I72/744/1000 -> 0.10677419 | K72: =H72*744*1.38 -> 328550.4 | L72: =K72/744/1000 -> 0.4416 | M72: =(I72/K72)*100 -> 24.178939 | N72: =H72/1000*0.8-J72 -> 0.14922581
A73: 46 | B73: ТП - 12 квартал | C73: NF003694 | D73: Тр №1 | E73: г.Сатпаев 12 квартал | F73: ЦСЭС | G73: 6/0,4 | H73: 320 | I73: 24160 | J73: =I73/744/1000 -> 0.032473118 | K73: =H73*744*1.38 -> 328550.4 | L73: =K73/744/1000 -> 0.4416 | M73: =(I73/K73)*100 -> 7.3535141 | N73: =H73/1000*0.8-J73 -> 0.22352688
A74: 47 | B74: ТП - 12А квартал | C74: NF003706 | D74: Тр №1 | E74: г.Сатпаев 12А квартал | F74: ЦСЭС | G74: 6/0,4 | H74: 320 | I74: 96600 | J74: =I74/744/1000 -> 0.12983871 | K74: =H74*744*1.38 -> 328550.4 | L74: =K74/744/1000 -> 0.4416 | M74: =(I74/K74)*100 -> 29.401882 | N74: =H74/1000*0.8-J74 -> 0.12616129
A75: 48 | B75: ТП - 13 квартал ( СШ 14) | C75: NF003690 | D75: Тр №1 | E75: г.Сатпаев 13 квартал | F75: ЦСЭС | G75: 6/0,4 | H75: 320 | I75: 52680 | J75: =I75/744/1000 -> 0.070806452 | K75: =H75*744*1.38 -> 328550.4 | L75: =K75/744/1000 -> 0.4416 | M75: =(I75/K75)*100 -> 16.03407 | N75: =H75/1000*0.8-J75 -> 0.18519355
A76: 49 | B76: ТП - 15А квартал | C76: NF003668 | D76: Тр №1 | E76: г.Сатпаев 15А квартал | F76: ЦСЭС | G76: 6/0,4 | H76: 400 | I76: 44280 | J76: =I76/744/1000 -> 0.059516129 | K76: =H76*744*1.38 -> 410688 | L76: =K76/744/1000 -> 0.552 | M76: =(I76/K76)*100 -> 10.781907 | N76: =H76/1000*0.8-J76 -> 0.26048387
A77: 50 | B77: КТПБ - 15В квартал | C77: 26005725 | D77: Тр №1 | E77: г.Сатпаев 15В квартал | F77: ЦСЭС | G77: 6/0,4 | H77: 400 | I77: 97560 | J77: =I77/744/1000 -> 0.13112903 | K77: =H77*744*1.38 -> 410688 | L77: =K77/744/1000 -> 0.552 | M77: =(I77/K77)*100 -> 23.755259 | N77: =H77/1000*0.8-J77 -> 0.18887097
A78: 51 | B78: ТП - 16 квартал | C78: NF003867 | D78: Тр №1 | E78: г.Сатпаев 16 квартал | F78: ЦСЭС | G78: 6/0,4 | H78: 630 | I78: 80280 | J78: =I78/744/1000 -> 0.10790323 | K78: =H78*744*1.38 -> 646833.6 | L78: =K78/744/1000 -> 0.8694 | M78: =(I78/K78)*100 -> 12.411229 | N78: =H78/1000*0.8-J78 -> 0.39609677
A79: 52 | B79: КТПБ-18 кв-л | C79: 50647007 | D79: Тр №1 | E79: г.Сатпаев 18 квартал | F79: ЦСЭС | G79: 6/0,4 | H79: 630 | I79: 122400 | J79: =I79/744/1000 -> 0.16451613 | K79: =H79*744*1.38 -> 646833.6 | L79: =K79/744/1000 -> 0.8694 | M79: =(I79/K79)*100 -> 18.92295 | N79: =H79/1000*0.8-J79 -> 0.33948387
A80: 53 | B80: КТПБ-18 кв-л | C80: 50647007 | D80: Тр №2 | E80: г.Сатпаев 18 квартал | F80: ЦСЭС | G80: 6/0,4 | H80: 630 | I80: 122400 | J80: =I80/744/1000 -> 0.16451613 | K80: =H80*744*1.38 -> 646833.6 | L80: =K80/744/1000 -> 0.8694 | M80: =(I80/K80)*100 -> 18.92295 | N80: =H80/1000*0.8-J80 -> 0.33948387
A81: 54 | B81: ТП - 19 квартал | C81: NF003855 | D81: Тр №1 | E81: г.Сатпаев 19 квартал | F81: ЦСЭС | G81: 6/0,4 | H81: 400 | I81: 77160 | J81: =I81/744/1000 -> 0.10370968 | K81: =H81*744*1.38 -> 410688 | L81: =K81/744/1000 -> 0.552 | M81: =(I81/K81)*100 -> 18.787985 | N81: =H81/1000*0.8-J81 -> 0.21629032
A82: 55 | B82: ТП - 21А квартал | C82: 38574149 | D82: Тр №1 | E82: г.Сатпаев 21А квартал | F82: ЦСЭС | G82: 6/0,4 | H82: 400 | I82: 70920 | J82: =I82/744/1000 -> 0.095322581 | K82: =H82*744*1.38 -> 410688 | L82: =K82/744/1000 -> 0.552 | M82: =(I82/K82)*100 -> 17.268583 | N82: =H82/1000*0.8-J82 -> 0.22467742
A83: 56 | B83: ТП-ст.Никольская 1 | D83: Тр №1 | E83: г.Сатпаев , промзона | F83: ЦСЭС | G83: 6/0,4 | H83: 100 | I83: 481 | J83: =I83/744/1000 -> 0.00064650538 | K83: =H83*744*1.38 -> 102672 | L83: =K83/744/1000 -> 0.138 | M83: =(I83/K83)*100 -> 0.46848216 | N83: =H83/1000*0.8-J83 -> 0.079353495
A84: 57 | B84: ТП - 23 квартал | C84: NF003663 | D84: Тр №1 | E84: г.Сатпаев 23 квартал | F84: ЦСЭС | G84: 6/0,4 | H84: 400 | I84: 27000 | J84: =I84/744/1000 -> 0.036290323 | K84: =H84*744*1.38 -> 410688 | L84: =K84/744/1000 -> 0.552 | M84: =(I84/K84)*100 -> 6.5743338 | N84: =H84/1000*0.8-J84 -> 0.28370968
A85: 58 | B85: ТП -Тех училище ПШ-108 | C85: NF003856 | D85: Тр №1 | E85: г.Сатпаев 23 квартал | F85: ЦСЭС | G85: 6/0,4 | H85: 320 | I85: 42000 | J85: =I85/744/1000 -> 0.056451613 | K85: =H85*744*1.38 -> 328550.4 | L85: =K85/744/1000 -> 0.4416 | M85: =(I85/K85)*100 -> 12.783427 | N85: =H85/1000*0.8-J85 -> 0.19954839
A86: 59 | B86: ТП -55 квартал | C86: NF003849 | D86: Тр №1 | E86: г.Сатпаев 55 квартал | F86: ЦСЭС | G86: 6/0,4 | H86: 400 | I86: 76920 | J86: =I86/744/1000 -> 0.1033871 | K86: =H86*744*1.38 -> 410688 | L86: =K86/744/1000 -> 0.552 | M86: =(I86/K86)*100 -> 18.729547 | N86: =H86/1000*0.8-J86 -> 0.2166129
A87: 60 | B87: ТП -56 квартал | C87: NF003857 | D87: Тр №1 | E87: г.Сатпаев 56 квартал | F87: ЦСЭС | G87: 6/0,4 | H87: 400 | I87: 73080 | J87: =I87/744/1000 -> 0.098225806 | K87: =H87*744*1.38 -> 410688 | L87: =K87/744/1000 -> 0.552 | M87: =(I87/K87)*100 -> 17.79453 | N87: =H87/1000*0.8-J87 -> 0.22177419
A88: 61 | B88: ТП -57/58квартал | C88: HN003785 | D88: Тр №1 | E88: г.Сатпаев 57 квартал | F88: ЦСЭС | G88: 6/0,4 | H88: 400 | I88: 69840 | J88: =I88/744/1000 -> 0.093870968 | K88: =H88*744*1.38 -> 410688 | L88: =K88/744/1000 -> 0.552 | M88: =(I88/K88)*100 -> 17.00561 | N88: =H88/1000*0.8-J88 -> 0.22612903
C89: HN003712 | D89: Тр №2 | G89: 6/0,4 | H89: 400 | I89: 58800 | J89: =I89/744/1000 -> 0.079032258 | K89: =H89*744*1.38 -> 410688 | L89: =K89/744/1000 -> 0.552 | M89: =(I89/K89)*100 -> 14.317438 | N89: =H89/1000*0.8-J89 -> 0.24096774
A90: 62 | B90: КТП -57/58квартал | C90: 431085 | D90: Тр №1 | E90: г.Сатпаев 57 квартал | F90: ЦСЭС | G90: 6/0,4 | H90: 320 | I90: 28560 | J90: =I90/744/1000 -> 0.038387097 | K90: =H90*744*1.38 -> 328550.4 | L90: =K90/744/1000 -> 0.4416 | M90: =(I90/K90)*100 -> 8.6927302 | N90: =H90/1000*0.8-J90 -> 0.2176129
A91: 63 | B91: ТП -61 квартал | C91: NF003664 | D91: Тр №1 | E91: г.Сатпаев 61 квартал | F91: ЦСЭС | G91: 6/0,4 | H91: 400 | I91: 87240 | J91: =I91/744/1000 -> 0.11725806 | K91: =H91*744*1.38 -> 410688 | L91: =K91/744/1000 -> 0.552 | M91: =(I91/K91)*100 -> 21.242403 | N91: =H91/1000*0.8-J91 -> 0.20274194
A92: 64 | B92: КТП -61 квартал | C92: NF003665 | D92: Тр №1 | E92: г.Сатпаев 61 квартал | F92: ЦСЭС | G92: 6/0,4 | H92: 250 | I92: 26400 | J92: =I92/744/1000 -> 0.035483871 | K92: =H92*744*1.38 -> 256680 | L92: =K92/744/1000 -> 0.345 | M92: =(I92/K92)*100 -> 10.28518 | N92: =H92/1000*0.8-J92 -> 0.16451613
A93: 65 | B93: ТП -2 66 квартал | C93: 26880899 | D93: Тр №1 | E93: г.Сатпаев 66 квартал | F93: ЦСЭС | G93: 6/0,4 | H93: 320 | I93: 0 | J93: =I93/744/1000 -> 0 | K93: =H93*744*1.38 -> 328550.4 | L93: =K93/744/1000 -> 0.4416 | M93: =(I93/K93)*100 -> 0 | N93: =H93/1000*0.8-J93 -> 0.256
A94: 66 | B94: ТП -3 66 квартал | C94: NF009837 | D94: Тр №1 | E94: г.Сатпаев 66 квартал | F94: ЦСЭС | G94: 6/0,4 | H94: 320 | I94: 50520 | J94: =I94/744/1000 -> 0.067903226 | K94: =H94*744*1.38 -> 328550.4 | L94: =K94/744/1000 -> 0.4416 | M94: =(I94/K94)*100 -> 15.376636 | N94: =H94/1000*0.8-J94 -> 0.18809677
A95: 67 | B95: ТП -4 66 квартал | C95: NF003721 | D95: Тр №1 | E95: г.Сатпаев 66 квартал | F95: ЦСЭС | G95: 6/0,4 | H95: 250 | I95: 57360 | J95: =I95/744/1000 -> 0.077096774 | K95: =H95*744*1.38 -> 256680 | L95: =K95/744/1000 -> 0.345 | M95: =(I95/K95)*100 -> 22.346891 | N95: =H95/1000*0.8-J95 -> 0.12290323
A96: 68 | B96: ТП -5 66 квартал | C96: NF003789 | D96: Тр №1 | E96: г.Сатпаев 66 квартал | F96: ЦСЭС | G96: 6/0,4 | H96: 400 | I96: 13840 | J96: =I96/744/1000 -> 0.018602151 | K96: =H96*744*1.38 -> 410688 | L96: =K96/744/1000 -> 0.552 | M96: =(I96/K96)*100 -> 3.3699548 | N96: =H96/1000*0.8-J96 -> 0.30139785
A97: 69 | B97: ТП -6 66 квартал | C97: NF003725 | D97: Тр №1 | E97: г.Сатпаев 66 квартал | F97: ЦСЭС | G97: 6/0,4 | H97: 400 | I97: 30880 | J97: =I97/744/1000 -> 0.041505376 | K97: =H97*744*1.38 -> 410688 | L97: =K97/744/1000 -> 0.552 | M97: =(I97/K97)*100 -> 7.5190899 | N97: =H97/1000*0.8-J97 -> 0.27849462
A98: 70 | B98: ТП -63 квартал | C98: NF003713 | D98: Тр №1 | E98: г.Сатпаев 63 квартал | F98: ЦСЭС | G98: 6/0,4 | H98: 630 | I98: 42960 | J98: =I98/744/1000 -> 0.057741935 | K98: =H98*744*1.38 -> 646833.6 | L98: =K98/744/1000 -> 0.8694 | M98: =(I98/K98)*100 -> 6.6415845 | N98: =H98/1000*0.8-J98 -> 0.44625806
A99: 71 | B99: ТП -65 квартал | C99: NF004059 | D99: Тр №1 | E99: г.Сатпаев 65 квартал | F99: ЦСЭС | G99: 6/0,4 | H99: 400 | I99: 82800 | J99: =I99/744/1000 -> 0.11129032 | K99: =H99*744*1.38 -> 410688 | L99: =K99/744/1000 -> 0.552 | M99: =(I99/K99)*100 -> 20.16129 | N99: =H99/1000*0.8-J99 -> 0.20870968
A100: 72 | B100: ТП -74 квартал | C100: NF003755 | D100: Тр №1 | E100: г.Сатпаев 74 квартал | F100: ЦСЭС | G100: 6/0,4 | H100: 630 | I100: 90120 | J100: =I100/744/1000 -> 0.12112903 | K100: =H100*744*1.38 -> 646833.6 | L100: =K100/744/1000 -> 0.8694 | M100: =(I100/K100)*100 -> 13.932486 | N100: =H100/1000*0.8-J100 -> 0.38287097
A101: 73 | B101: ТП -67 квартал | C101: NF003662 | D101: Тр №1 | E101: г.Сатпаев 67 квартал | F101: ЦСЭС | G101: 6/0,4 | H101: 400 | I101: 72960 | J101: =I101/744/1000 -> 0.098064516 | K101: =H101*744*1.38 -> 410688 | L101: =K101/744/1000 -> 0.552 | M101: =(I101/K101)*100 -> 17.765311 | N101: =H101/1000*0.8-J101 -> 0.22193548
A102: 74 | B102: КТПН -67 квартал | C102: NF003765 | D102: Тр №1 | E102: г.Сатпаев 67 квартал | F102: ЦСЭС | G102: 6/0,4 | H102: 400 | I102: 64560 | J102: =I102/744/1000 -> 0.086774194 | K102: =H102*744*1.38 -> 410688 | L102: =K102/744/1000 -> 0.552 | M102: =(I102/K102)*100 -> 15.719963 | N102: =H102/1000*0.8-J102 -> 0.23322581
A103: 75 | B103: КТПН -Западный район | C103: NF003699 | D103: Тр №1 | E103: г.Сатпаев Западный район | F103: ЦСЭС | G103: 6/0,4 | H103: 400 | I103: 47520 | J103: =I103/744/1000 -> 0.063870968 | K103: =H103*744*1.38 -> 410688 | L103: =K103/744/1000 -> 0.552 | M103: =(I103/K103)*100 -> 11.570827 | N103: =H103/1000*0.8-J103 -> 0.25612903
A104: 76 | B104: ТП -3 Западный район | C104: NF003740 | D104: Тр №1 | E104: г.Сатпаев Западный район | F104: ЦСЭС | G104: 6/0,4 | H104: 630 | I104: 66480 | J104: =I104/744/1000 -> 0.089354839 | K104: =H104*744*1.38 -> 646833.6 | L104: =K104/744/1000 -> 0.8694 | M104: =(I104/K104)*100 -> 10.277759 | N104: =H104/1000*0.8-J104 -> 0.41464516
A105: 77 | B105: ТП -1 Западный район | C105: NF004043 | D105: Тр №1 | E105: г.Сатпаев Западный район | F105: ЦСЭС | G105: 6/0,4 | H105: 630 | I105: 182600 | J105: =I105/744/1000 -> 0.24543011 | K105: =H105*744*1.38 -> 646833.6 | L105: =K105/744/1000 -> 0.8694 | M105: =(I105/K105)*100 -> 28.229826 | N105: =H105/1000*0.8-J105 -> 0.25856989
...

Sheet г.Жезказган
B3: ='г.Сатпаев '!B3 -> Реестр данных по загрузке подстанции ПЭС ТОО "Казахмыс Дистрибьюшн" за сентябрь 2026 года
A7: п/п № | B7: Наименование ПС | D7: № ввода | E7: Адрес нахождения | F7: Цех | G7: Уровень напряжения, кВ | H7: Мощность трансформатора,кВА | I7: нагрузка ,в кВт.час | J7: нагрузка ,в МВт | K7: максимальная нагрузка,кВт | L7: максимальная нагрузка,МВт | M7: Загрузка, МВт | N7: Свободная мощность,МВт
C8: № | V8: 2 города
B9: г.Жезказган | S9: ЦЖЭС | T9: ЦЖГЭС | U9: итого
A10: 1 | B10: ГПП-Жомарт | D10: Тр №1 | E10: на территории рудника Жомарт ПО "ЖЦМ" | F10: ЦЖЭС | G10: 110/35/6 | H10: 16000 | I10: 2488702 | J10: =I10/744/1000 -> 3.3450296 | K10: =H10*744*1.38 -> 16427520 | L10: =K10/744/1000 -> 22.08 | M10: =(I10/K10)*100 -> 15.14959 | N10: =H10/1000*0.8-J10 -> 9.4549704 | R10: 110 | S10: =SUM(H10:H11) -> 32000 | U10: =T10+S10 -> 32000 | V10: =U10+'г.Сатпаев '!T168 -> 338900
D11: Тр №2 | E11: на территории рудника Жомарт ПО "ЖЦМ" | F11: ЦЖЭС | G11: 110/35/6 | H11: 16000 | I11: 3313130 | J11: =I11/744/1000 -> 4.4531317 | K11: =H11*744*1.38 -> 16427520 | L11: =K11/744/1000 -> 22.08 | M11: =(I11/K11)*100 -> 20.168169 | N11: =H11/1000*0.8-J11 -> 8.3468683 | R11: 35 | S11: =SUM(H12:H22) -> 45200 | T11: =SUM(H56:H76) -> 116600 | U11: =T11+S11 -> 161800 | V11: =U11+'г.Сатпаев '!T169 -> 452400
A12: 2 | B12: ЦРП-ХПВЗ | D12: Тр №1 | E12: г.Жезказган , район пионер лагеря "Орленок" | F12: ЦЖЭС | G12: 35/6 | H12: 3200 | I12: 12960 | J12: =I12/744/1000 -> 0.017419355 | K12: =H12*744*1.38 -> 3285504 | L12: =K12/744/1000 -> 4.416 | M12: =(I12/K12)*100 -> 0.39446003 | N12: =H12/1000*0.8-J12 -> 2.5425806 | R12: 6 | S12: =SUM(H23:H55) -> 12776 | T12: =SUM(H77:H304) -> 90920 | U12: =T12+S12 -> 103696 | V12: =U12+'г.Сатпаев '!T170 -> 176846
D13: Тр №2 | E13: г.Жезказган , район пионер лагеря "Орленок" | F13: ЦЖЭС | G13: 35/6 | H13: 3200 | I13: 580800 | J13: =I13/744/1000 -> 0.78064516 | K13: =H13*744*1.38 -> 3285504 | L13: =K13/744/1000 -> 4.416 | M13: =(I13/K13)*100 -> 17.677653 | N13: =H13/1000*0.8-J13 -> 1.7793548 | V13: =V10+V11+V12 -> 968146
A14: 3 | B14: ЦРП-Здравница | D14: Тр №1 | E14: г.Жезказган , Дачный поселок Здравница | F14: ЦЖЭС | G14: 35/6 | H14: 3200 | I14: 332400 | J14: =I14/744/1000 -> 0.44677419 | K14: =H14*744*1.38 -> 3285504 | L14: =K14/744/1000 -> 4.416 | M14: =(I14/K14)*100 -> 10.117169 | N14: =H14/1000*0.8-J14 -> 2.1132258
A15: 4 | B15: ЦРП-8 | D15: Тр №1 | E15: г.Жезказган, промзона | F15: ЦЖЭС | G15: 35/6 | H15: 10000 | I15: 316920 | J15: =I15/744/1000 -> 0.42596774 | K15: =H15*744*1.38 -> 10267200 | L15: =K15/744/1000 -> 13.8 | M15: =(I15/K15)*100 -> 3.0867228 | N15: =H15/1000*0.8-J15 -> 7.5740323
D16: Тр №2 | E16: г.Жезказган, промзона | F16: ЦЖЭС | G16: 35/6 | H16: 10000 | I16: 482160 | J16: =I16/744/1000 -> 0.64806452 | K16: =H16*744*1.38 -> 10267200 | L16: =K16/744/1000 -> 13.8 | M16: =(I16/K16)*100 -> 4.6961197 | N16: =H16/1000*0.8-J16 -> 7.3519355
A17: 5 | B17: ЦРП-5Т | D17: Тр №1 с 11Ц | E17: г.Жезказган , район трассы Жезказган-Сатпаев | F17: ЦЖЭС | G17: 35/6 | H17: 4000 | I17: 711060 | J17: =I17/744/1000 -> 0.95572581 | K17: =H17*744*1.38 -> 4106880 | L17: =K17/744/1000 -> 5.52 | M17: =(I17/K17)*100 -> 17.313873 | N17: =H17/1000*0.8-J17 -> 2.2442742
D18: Тр №2 с 13Ц | E18: г.Жезказган , район трассы Жезказган-Сатпаев | F18: ЦЖЭС | G18: 35/6 | H18: 4000 | I18: 766500 | J18: =I18/744/1000 -> 1.0302419 | K18: =H18*744*1.38 -> 4106880 | L18: =K18/744/1000 -> 5.52 | M18: =(I18/K18)*100 -> 18.663803 | N18: =H18/1000*0.8-J18 -> 2.1697581
A19: 6 | B19: ЦРП-КЦМР | D19: Тр №1 | E19: г.Жезказган, территория предприятия РМСУ | F19: ЦЖЭС | G19: 35/6 | H19: 1600 | I19: 153672 | J19: =I19/744/1000 -> 0.20654839 | K19: =H19*744*1.38 -> 1642752 | L19: =K19/744/1000 -> 2.208 | M19: =(I19/K19)*100 -> 9.3545465 | N19: =H19/1000*0.8-J19 -> 1.0734516
D20: Тр №2 | E20: г.Жезказган, территория предприятия РМСУ | F20: ЦЖЭС | G20: 35/6 | H20: 1000 | I20: 51768 | J20: =I20/744/1000 -> 0.069580645 | K20: =H20*744*1.38 -> 1026720 | L20: =K20/744/1000 -> 1.38 | M20: =(I20/K20)*100 -> 5.0420757 | N20: =H20/1000*0.8-J20 -> 0.73041935
A21: 7 | B21: ЦРП-Уйтас Айдос | D21: Тр №1 | E21: район скважины Уйтас-Айдос | F21: ЦЖЭС | G21: 35/6 | H21: 2500 | I21: 11088 | J21: =I21/744/1000 -> 0.014903226 | K21: =H21*744*1.38 -> 2566800 | L21: =K21/744/1000 -> 3.45 | M21: =(I21/K21)*100 -> 0.43197756 | N21: =H21/1000*0.8-J21 -> 1.9850968
D22: Тр №2 | E22: район скважины Уйтас-Айдос | F22: ЦЖЭС | G22: 35/6 | H22: 2500 | I22: 175176 | J22: =I22/744/1000 -> 0.23545161 | K22: =H22*744*1.38 -> 2566800 | L22: =K22/744/1000 -> 3.45 | M22: =(I22/K22)*100 -> 6.8246844 | N22: =H22/1000*0.8-J22 -> 1.7645484
A23: 8 | B23: Подстанция на скважинах -35/0,4кВяч№23 | D23: Тр №1 | E23: район скважины Уйтас-Айдос | F23: ЦЖЭС | G23: 6 | H23: 630 | I23: 189900 | J23: =I23/744/1000 -> 0.25524194 | K23: =H23*744*1.38 -> 646833.6 | L23: =K23/744/1000 -> 0.8694 | M23: =(I23/K23)*100 -> 29.358401 | N23: =H23/1000*0.8-J23 -> 0.24875806
A24: 9 | B24: Подстанция на скважинах -35/0,4кВяч№3 | D24: Тр №1 | E24: район скважины Уйтас-Айдос | F24: ЦЖЭС | G24: 6 | H24: 560 | I24: 86420 | J24: =I24/744/1000 -> 0.11615591 | K24: =H24*744*1.38 -> 574963.2 | L24: =K24/744/1000 -> 0.7728 | M24: =(I24/K24)*100 -> 15.030527 | N24: =H24/1000*0.8-J24 -> 0.33184409
A25: 10 | B25: Подстанция на скважинах -35/0,4кВ №34 | D25: Тр №3 | E25: район скважины Уйтас-Айдос | F25: ЦЖЭС | G25: 6 | H25: =560 -> 560 | I25: 0 | J25: =I25/744/1000 -> 0 | K25: =H25*744*1.38 -> 574963.2 | L25: =K25/744/1000 -> 0.7728 | M25: =(I25/K25)*100 -> 0 | N25: =H25/1000*0.8-J25 -> 0.448
A26: 11 | B26: Подстанция на скважинах -35/0,4кВ №34А | D26: Тр №1 | E26: район скважины Уйтас-Айдос | F26: ЦЖЭС | G26: 6 | H26: 1000 | I26: 0 | J26: =I26/744/1000 -> 0 | K26: =H26*744*1.38 -> 1026720 | L26: =K26/744/1000 -> 1.38 | M26: =(I26/K26)*100 -> 0 | N26: =H26/1000*0.8-J26 -> 0.8
A27: 12 | B27: ТП-6/0,4кВ Инженерный корпус | D27: Тр №1 | E27: г.Жезказган | F27: ЦЖЭС | G27: 6/0,4 | H27: 1000 | I27: 27720 | J27: =I27/744/1000 -> 0.037258065 | K27: =H27*744*1.38 -> 1026720 | L27: =K27/744/1000 -> 1.38 | M27: =(I27/K27)*100 -> 2.6998597 | N27: =H27/1000*0.8-J27 -> 0.76274194
D28: Тр №2 | E28: г.Жезказган | F28: ЦЖЭС | G28: 6/0,4 | H28: 1000 | I28: 12943 | J28: =I28/744/1000 -> 0.017396505 | K28: =H28*744*1.38 -> 1026720 | L28: =K28/744/1000 -> 1.38 | M28: =(I28/K28)*100 -> 1.2606163 | N28: =H28/1000*0.8-J28 -> 0.78260349
A29: 13 | B29: ТП-6/0,4кВ Теплая вода№1 | D29: Тр №1 | E29: г.Жезказган район ЖОФ-1,2 | F29: ЦЖЭС | G29: 6/0,4 | H29: 630 | I29: 0 | J29: =I29/744/1000 -> 0 | K29: =H29*744*1.38 -> 646833.6 | L29: =K29/744/1000 -> 0.8694 | M29: =(I29/K29)*100 -> 0 | N29: =H29/1000*0.8-J29 -> 0.504
D30: Тр №2 | E30: г.Жезказган район ЖОФ-1,2 | F30: ЦЖЭС | G30: 6/0,4 | H30: 400 | I30: 9816 | J30: =I30/744/1000 -> 0.013193548 | K30: =H30*744*1.38 -> 410688 | L30: =K30/744/1000 -> 0.552 | M30: =(I30/K30)*100 -> 2.3901356 | N30: =H30/1000*0.8-J30 -> 0.30680645
A31: 14 | B31: ТП-6/0,4кВ Теплая вода№2 | D31: Тр №1 | E31: г.Жезказган район ЖОФ-1,2 | F31: ЦЖЭС | G31: 6/0,4 | H31: 630 | I31: 2664 | J31: =I31/744/1000 -> 0.0035806452 | K31: =H31*744*1.38 -> 646833.6 | L31: =K31/744/1000 -> 0.8694 | M31: =(I31/K31)*100 -> 0.41185245 | N31: =H31/1000*0.8-J31 -> 0.50041935
D32: Тр №2 | E32: г.Жезказган район ЖОФ-1,2 | F32: ЦЖЭС | G32: 6/0,4 | H32: 400 | I32: 23400 | J32: =I32/744/1000 -> 0.031451613 | K32: =H32*744*1.38 -> 410688 | L32: =K32/744/1000 -> 0.552 | M32: =(I32/K32)*100 -> 5.697756 | N32: =H32/1000*0.8-J32 -> 0.28854839
A33: 15 | B33: ТП-6/0,4кВ Гор.хоз-фек.насос. №1 | D33: Тр №1 | E33: г.Жезказган, 9 квартал | F33: ЦЖЭС | G33: 6/0,4 | H33: 250 | I33: 0 | J33: =I33/744/1000 -> 0 | K33: =H33*744*1.38 -> 256680 | L33: =K33/744/1000 -> 0.345 | M33: =(I33/K33)*100 -> 0 | N33: =H33/1000*0.8-J33 -> 0.2
D34: Тр №2 | E34: г.Жезказган, 9 квартал | F34: ЦЖЭС | G34: 6/0,4 | H34: 250 | I34: 3392 | J34: =I34/744/1000 -> 0.0045591398 | K34: =H34*744*1.38 -> 256680 | L34: =K34/744/1000 -> 0.345 | M34: =(I34/K34)*100 -> 1.3214898 | N34: =H34/1000*0.8-J34 -> 0.19544086
A35: 16 | B35: КТП-6/0,4кВ"Ботанический сад" | D35: Тр №1 | E35: г.Жезказган п.Аварийный | F35: ЦЖЭС | G35: 6/0,4 | H35: 250 | I35: 3370 | J35: =I35/744/1000 -> 0.0045295699 | K35: =H35*744*1.38 -> 256680 | L35: =K35/744/1000 -> 0.345 | M35: =(I35/K35)*100 -> 1.3129188 | N35: =H35/1000*0.8-J35 -> 0.19547043
A36: 17 | B36: КТПН-6/0,4кВ Аварийный | D36: Тр №1 | E36: г.Жезказган п.Аварийный | F36: ЦЖЭС | G36: 6/0,4 | H36: 250 | I36: 40840 | J36: =I36/744/1000 -> 0.054892473 | K36: =H36*744*1.38 -> 256680 | L36: =K36/744/1000 -> 0.345 | M36: =(I36/K36)*100 -> 15.910862 | N36: =H36/1000*0.8-J36 -> 0.14510753
A37: 18 | B37: КТП-6/0,4кВ База РЭС гЖез-н | D37: Тр №1 | E37: г.Жезказган | F37: ЦЖЭС | G37: 6/0,4 | H37: 160 | I37: 1120 | J37: =I37/744/1000 -> 0.0015053763 | K37: =H37*744*1.38 -> 164275.2 | L37: =K37/744/1000 -> 0.2208 | M37: =(I37/K37)*100 -> 0.68178276 | N37: =H37/1000*0.8-J37 -> 0.12649462
A38: 19 | B38: КТП-6/0,4кВ Верх.обогатит-я | D38: Тр №1 | E38: г.Жезказган , 5 район | F38: ЦЖЭС | G38: 6/0,4 | H38: 63 | I38: 766 | J38: =I38/744/1000 -> 0.0010295699 | K38: =H38*744*1.38 -> 64683.36 | L38: =K38/744/1000 -> 0.08694 | M38: =(I38/K38)*100 -> 1.1842304 | N38: =H38/1000*0.8-J38 -> 0.04937043
A39: 20 | B39: МТП-6/0,4кВ Верх.обогатит-я | D39: Тр №1 | E39: г.Жезказган , 5 район | F39: ЦЖЭС | G39: 35/0,4 | H39: 160 | I39: 1181 | J39: =I39/744/1000 -> 0.0015873656 | K39: =H39*744*1.38 -> 164275.2 | L39: =K39/744/1000 -> 0.2208 | M39: =(I39/K39)*100 -> 0.71891558 | N39: =H39/1000*0.8-J39 -> 0.12641263
A40: 21 | B40: КТП-6/0,4кВ " ЭЦ-90" | D40: Тр №1 | E40: г.Жезказган, на территории ТОО Транко | F40: ЦЖЭС | G40: 6/0,4 | H40: 63 | I40: 10238 | J40: =I40/744/1000 -> 0.013760753 | K40: =H40*744*1.38 -> 64683.36 | L40: =K40/744/1000 -> 0.08694 | M40: =(I40/K40)*100 -> 15.827873 | N40: =H40/1000*0.8-J40 -> 0.036639247
A41: 22 | B41: КТП-6/0,4кВ"Развилка" | D41: Тр №1 | E41: п.Кенгир ст.Развилка | F41: ЦЖЭС | G41: 6/0,4 | H41: 40 | I41: 11376 | J41: =I41/744/1000 -> 0.015290323 | K41: =H41*744*1.38 -> 41068.8 | L41: =K41/744/1000 -> 0.0552 | M41: =(I41/K41)*100 -> 27.69986 | N41: =H41/1000*0.8-J41 -> 0.016709677
A42: 23 | B42: МТП-6/0,4кВ"Развилка" | D42: Тр №1 | E42: п.Кенгир ст.Развилка | F42: ЦЖЭС | G42: 6/0,4 | H42: 100 | I42: 0 | J42: =I42/744/1000 -> 0 | K42: =H42*744*1.38 -> 102672 | L42: =K42/744/1000 -> 0.138 | M42: =(I42/K42)*100 -> 0 | N42: =H42/1000*0.8-J42 -> 0.08
A43: 24 | B43: ТП-6/0,4кВ ПСРЦ(РСУ ОР) | D43: Тр №1 | E43: г.Жезказган , промзона | F43: ЦЖЭС | G43: 6/0,4 | H43: 400 | I43: 5330 | J43: =I43/744/1000 -> 0.0071639785 | K43: =H43*744*1.38 -> 410688 | L43: =K43/744/1000 -> 0.552 | M43: =(I43/K43)*100 -> 1.2978222 | N43: =H43/1000*0.8-J43 -> 0.31283602
A44: 25 | B44: КТП-6/0,4кВ Новая станция очищенных стоков | D44: Тр №1 | E44: г.Жезказган , промзона | F44: ЦЖЭС | G44: 6/0,4 | H44: 100 | I44: 0 | J44: =I44/744/1000 -> 0 | K44: =H44*744*1.38 -> 102672 | L44: =K44/744/1000 -> 0.138 | M44: =(I44/K44)*100 -> 0 | N44: =H44/1000*0.8-J44 -> 0.08
D45: Тр №2 | E45: г.Жезказган , промзона | F45: ЦЖЭС | G45: 6/0,4 | H45: 630 | I45: 0 | J45: =I45/744/1000 -> 0 | K45: =H45*744*1.38 -> 646833.6 | L45: =K45/744/1000 -> 0.8694 | M45: =(I45/K45)*100 -> 0 | N45: =H45/1000*0.8-J45 -> 0.504
A46: 26 | B46: ТП-6/0,4кВ ст.Комбинатская | D46: Тр №1 | E46: г.Жезказган , п.Комбинатский | F46: ЦЖЭС | G46: 6/0,4 | H46: 250 | I46: 12280 | J46: =I46/744/1000 -> 0.016505376 | K46: =H46*744*1.38 -> 256680 | L46: =K46/744/1000 -> 0.345 | M46: =(I46/K46)*100 -> 4.7841671 | N46: =H46/1000*0.8-J46 -> 0.18349462
A47: 27 | B47: ТП-6/0,4кВ "Профилакторий | D47: Тр №1 | E47: г.Жезказган , мкр 5 | F47: ЦЖЭС | G47: 6/0,4 | H47: 630 | I47: 23147.12 | J47: =I47/744/1000 -> 0.03111172 | K47: =H47*744*1.38 -> 646833.6 | L47: =K47/744/1000 -> 0.8694 | M47: =(I47/K47)*100 -> 3.5785278 | N47: =H47/1000*0.8-J47 -> 0.47288828
A48: 28 | B48: МТП-6/0,4кВ "Экипировка" | D48: Тр №1 | E48: г.Жезказган, на территории ТОО Транко | F48: ЦЖЭС | G48: 6/0,4 | H48: 320 | I48: 2100 | J48: =I48/744/1000 -> 0.0028225806 | K48: =H48*744*1.38 -> 328550.4 | L48: =K48/744/1000 -> 0.4416 | M48: =(I48/K48)*100 -> 0.63917134 | N48: =H48/1000*0.8-J48 -> 0.25317742
A49: 29 | B49: КТПН-6/0,4кВ Фек.насос. №5 | D49: Тр №1 | E49: г.Жезказган, микр 6 | F49: ЦЖЭС | G49: 6/0,4 | H49: 250 | I49: 7110 | J49: =I49/744/1000 -> 0.0095564516 | K49: =H49*744*1.38 -> 256680 | L49: =K49/744/1000 -> 0.345 | M49: =(I49/K49)*100 -> 2.769986 | N49: =H49/1000*0.8-J49 -> 0.19044355
A50: 30 | B50: КТП-6/0,4кВ К/х "Пен и К" | D50: Тр №1 | E50: г.Жезказган, район ЦРП-НОВ-1,2 | F50: ЦЖЭС | G50: 6/0,4 | H50: 100 | I50: 200 | J50: =I50/744/1000 -> 0.0002688172 | K50: =H50*744*1.38 -> 102672 | L50: =K50/744/1000 -> 0.138 | M50: =(I50/K50)*100 -> 0.19479508 | N50: =H50/1000*0.8-J50 -> 0.079731183
A51: 31 | B51: КТПН-10/0,4 Уйтас-Айдосский водовод | D51: Тр №1 | E51: район скважины Уйтас-Айдос | F51: ЦЖЭС | G51: 6/0,4 | H51: 250 | I51: 3780 | J51: =I51/744/1000 -> 0.0050806452 | K51: =H51*744*1.38 -> 256680 | L51: =K51/744/1000 -> 0.345 | M51: =(I51/K51)*100 -> 1.4726508 | N51: =H51/1000*0.8-J51 -> 0.19491935
A52: 32 | B52: ТП-6/0,4кВ Механомонтаж | D52: Тр №1 | E52: г.Жезказган, район типографии ККМ | F52: ЦЖЭС | G52: 6/0,4 | H52: 630 | I52: 21247.2 | J52: =I52/744/1000 -> 0.028558065 | K52: =H52*744*1.38 -> 646833.6 | L52: =K52/744/1000 -> 0.8694 | M52: =(I52/K52)*100 -> 3.2848015 | N52: =H52/1000*0.8-J52 -> 0.47544194
A53: 33 | B53: ТП-6/0,4кВ Сантехмонтаж | D53: Тр №1 | E53: г.Жезказган, район База №1 РЕСХ | F53: ЦЖЭС | G53: 6/0,4 | H53: 250 | I53: 870 | J53: =I53/744/1000 -> 0.0011693548 | K53: =H53*744*1.38 -> 256680 | L53: =K53/744/1000 -> 0.345 | M53: =(I53/K53)*100 -> 0.33894343 | N53: =H53/1000*0.8-J53 -> 0.19883065
A54: 34 | B54: ТП-Промышленный | D54: Тр №1 | E54: район скважины Уйтас-Айдос | F54: ЦЖЭС | G54: 6/0,4 | H54: 250 | I54: 8759 | J54: =I54/744/1000 -> 0.011772849 | K54: =H54*744*1.38 -> 256680 | L54: =K54/744/1000 -> 0.345 | M54: =(I54/K54)*100 -> 3.4124201 | N54: =H54/1000*0.8-J54 -> 0.18822715
A55: 35 | B55: КТП-Аул1 | D55: Тр №1 | E55: г.Жезказган район ПНС-1 ЖОФ-1,2 | F55: ЦЖЭС | G55: 6/0,4 | H55: 320 | I55: 20666.4 | J55: =I55/744/1000 -> 0.027777419 | K55: =H55*744*1.38 -> 328550.4 | L55: =K55/744/1000 -> 0.4416 | N55: =H55/1000*0.8-J55 -> 0.22822258
A56: 36 | B56: ЦРП-2 | D56: Тр №1 | E56: г.Жезказган ПТВС | F56: ЦЖГЭС | G56: 35/6 | H56: 6300 | I56: 558000 | J56: =I56/744/1000 -> 0.75 | K56: =H56*744*1.38 -> 6468336 | L56: =K56/744/1000 -> 8.694 | M56: =(I56/K56)*100 -> 8.6266391 | N56: =H56/1000*0.8-J56 -> 4.29
D57: Тр №2 | E57: г.Жезказган ПТВС | F57: ЦЖГЭС | G57: 35/6 | H57: 5600 | I57: 520892 | J57: =I57/744/1000 -> 0.70012366 | K57: =H57*744*1.38 -> 5749632 | L57: =K57/744/1000 -> 7.728 | M57: =(I57/K57)*100 -> 9.0595711 | N57: =H57/1000*0.8-J57 -> 3.7798763
A58: 37 | B58: ЦРП-3 | D58: Тр №1 | E58: г.Жезказган (ул.Темирязева,3) | F58: ЦЖГЭС | G58: 35/6 | H58: 5600 | I58: 995112 | J58: =I58/744/1000 -> 1.3375161 | K58: =H58*744*1.38 -> 5749632 | L58: =K58/744/1000 -> 7.728 | M58: =(I58/K58)*100 -> 17.307403 | N58: =H58/1000*0.8-J58 -> 3.1424839
A59: 38 | B59: ЦРП-4 | D59: Тр №1 | E59: г.Жезказган (у.Маметова автошкола) | F59: ЦЖГЭС | G59: 35/6 | H59: 5600 | I59: 792720 | J59: =I59/744/1000 -> 1.0654839 | K59: =H59*744*1.38 -> 5749632 | L59: =K59/744/1000 -> 7.728 | M59: =(I59/K59)*100 -> 13.787317 | N59: =H59/1000*0.8-J59 -> 3.4145161
D60: Тр №2 | F60: ЦЖГЭС | G60: 35/6 | H60: 10000 | I60: 1981800 | J60: =I60/744/1000 -> 2.6637097 | K60: =H60*744*1.38 -> 10267200 | L60: =K60/744/1000 -> 13.8 | M60: =(I60/K60)*100 -> 19.302244 | N60: =H60/1000*0.8-J60 -> 5.3362903
A61: 39 | B61: ЦРП-6 | D61: Тр №1 | E61: г.Жезказган (ЖБИ за медзаводом) | F61: ЦЖГЭС | G61: 35/6 | H61: 3200 | I61: 479232 | J61: =I61/744/1000 -> 0.64412903 | K61: =H61*744*1.38 -> 3285504 | L61: =K61/744/1000 -> 4.416 | M61: =(I61/K61)*100 -> 14.586255 | N61: =H61/1000*0.8-J61 -> 1.915871
D62: Тр №2 | F62: ЦЖГЭС | G62: 35/6 | H62: 4000 | I62: 101664 | J62: =I62/744/1000 -> 0.13664516 | K62: =H62*744*1.38 -> 4106880 | L62: =K62/744/1000 -> 5.52 | M62: =(I62/K62)*100 -> 2.4754558 | N62: =H62/1000*0.8-J62 -> 3.0633548
A63: 40 | B63: ЦРП-7 | D63: Тр №1 | E63: г.Жезказган (на углу ул.Алашахана и ул.Байконурова) | F63: ЦЖГЭС | G63: 35/6 | H63: 6300 | I63: 1397016 | J63: =I63/744/1000 -> 1.8777097 | K63: =H63*744*1.38 -> 6468336 | L63: =K63/744/1000 -> 8.694 | M63: =(I63/K63)*100 -> 21.597765 | N63: =H63/1000*0.8-J63 -> 3.1622903
D64: Тр №2 | F64: ЦЖГЭС | G64: 35/6 | H64: 5600 | I64: 666120 | J64: =I64/744/1000 -> 0.89532258 | K64: =H64*744*1.38 -> 5749632 | L64: =K64/744/1000 -> 7.728 | M64: =(I64/K64)*100 -> 11.585437 | N64: =H64/1000*0.8-J64 -> 3.5846774
A65: 41 | B65: ЦРП-9 | D65: Тр №1 | E65: г.Жезказган (по ул.Холмецкой насосной АО ПТВС) | F65: ЦЖГЭС | G65: 35/6 | H65: 6300 | I65: 643680 | J65: =I65/744/1000 -> 0.86516129 | K65: =H65*744*1.38 -> 6468336 | L65: =K65/744/1000 -> 8.694 | M65: =(I65/K65)*100 -> 9.9512456 | N65: =H65/1000*0.8-J65 -> 4.1748387
D66: Тр №2 | F66: ЦЖГЭС | G66: 35/6 | H66: 6300 | I66: 686808 | J66: =I66/744/1000 -> 0.92312903 | K66: =H66*744*1.38 -> 6468336 | L66: =K66/744/1000 -> 8.694 | M66: =(I66/K66)*100 -> 10.618001 | N66: =H66/1000*0.8-J66 -> 4.116871
A67: 42 | B67: ЦРП-10 | D67: Тр №1 | E67: г.Жезказган (угол ул.Мира-ул.Деева) | F67: ЦЖГЭС | G67: 35/6 | H67: 10000 | I67: 819360 | J67: =I67/744/1000 -> 1.1012903 | K67: =H67*744*1.38 -> 10267200 | L67: =K67/744/1000 -> 13.8 | M67: =(I67/K67)*100 -> 7.9803647 | N67: =H67/1000*0.8-J67 -> 6.8987097
D68: Тр №2 | F68: ЦЖГЭС | G68: 35/6 | H68: 10000 | I68: 780096 | J68: =I68/744/1000 -> 1.0485161 | K68: =H68*744*1.38 -> 10267200 | L68: =K68/744/1000 -> 13.8 | M68: =(I68/K68)*100 -> 7.597943 | N68: =H68/1000*0.8-J68 -> 6.9514839
A69: 43 | B69: ЦРП-11 | D69: Тр №1 | E69: г.Жезказган ПТВС | F69: ЦЖГЭС | G69: 35/6 | H69: 4000 | I69: 315360 | J69: =I69/744/1000 -> 0.42387097 | K69: =H69*744*1.38 -> 4106880 | L69: =K69/744/1000 -> 5.52 | M69: =(I69/K69)*100 -> 7.6788219 | N69: =H69/1000*0.8-J69 -> 2.776129
D70: Тр №2 | E70: г.Жезказган ПТВС | F70: ЦЖГЭС | G70: 35/6 | H70: 4000 | I70: 660912 | J70: =I70/744/1000 -> 0.88832258 | K70: =H70*744*1.38 -> 4106880 | L70: =K70/744/1000 -> 5.52 | M70: =(I70/K70)*100 -> 16.0928 | N70: =H70/1000*0.8-J70 -> 2.3116774
A71: 44 | B71: ЦРП-12 | D71: Тр №1 | E71: г.Жезказган(за КД тюрьмой в районе очистных сооружении АО ПТВС) | F71: ЦЖГЭС | G71: 35/6 | H71: 6300 | I71: 155160 | J71: =I71/744/1000 -> 0.20854839 | K71: =H71*744*1.38 -> 6468336 | L71: =K71/744/1000 -> 8.694 | M71: =(I71/K71)*100 -> 2.3987622 | N71: =H71/1000*0.8-J71 -> 4.8314516
D72: Тр №2 | F72: ЦЖГЭС | G72: 35/6 | H72: 6300 | I72: 140160 | J72: =I72/744/1000 -> 0.1883871 | K72: =H72*744*1.38 -> 6468336 | L72: =K72/744/1000 -> 8.694 | M72: =(I72/K72)*100 -> 2.1668633 | N72: =H72/1000*0.8-J72 -> 4.8516129
A73: 45 | B73: ЦРП-14 | D73: Тр №1 | E73: г.Жезказган (ул.Улытауская между трикотажкой) | F73: ЦЖГЭС | G73: 35/6 | H73: 3200 | I73: 151740 | J73: =I73/744/1000 -> 0.20395161 | K73: =H73*744*1.38 -> 3285504 | L73: =K73/744/1000 -> 4.416 | M73: =(I73/K73)*100 -> 4.6184695 | N73: =H73/1000*0.8-J73 -> 2.3560484
A74: 46 | B74: ЦРП-Спутник | D74: Тр №1 | E74: г.Жезказган (дача) | F74: ЦЖГЭС | G74: 35/6 | H74: 3200 | I74: 224160 | J74: =I74/744/1000 -> 0.30129032 | K74: =H74*744*1.38 -> 3285504 | L74: =K74/744/1000 -> 4.416 | M74: =(I74/K74)*100 -> 6.8226975 | N74: =H74/1000*0.8-J74 -> 2.2587097
A75: 47 | B75: ЦРП-Общественные огороды | D75: Тр №1 | E75: г.Жезказган. (огороды дача ЛМЗ бывшая) | F75: ЦЖГЭС | G75: 35/6 | H75: 3200 | I75: 0 | J75: =I75/744/1000 -> 0 | K75: =H75*744*1.38 -> 3285504 | L75: =K75/744/1000 -> 4.416 | M75: =(I75/K75)*100 -> 0 | N75: =H75/1000*0.8-J75 -> 2.56
A76: 48 | B76: ЦРП-Мясокомбинат | D76: Тр №1 | E76: г.Жезказган (между Молзаводом и Мясокомбинат) | F76: ЦЖГЭС | G76: 35/6 | H76: 1600 | I76: 80520 | J76: =I76/744/1000 -> 0.10822581 | K76: =H76*744*1.38 -> 1642752 | L76: =K76/744/1000 -> 2.208 | M76: =(I76/K76)*100 -> 4.9015311 | N76: =H76/1000*0.8-J76 -> 1.1717742
A77: 49 | B77: ТП-4 мкр-2 | C77: 9716087000917 | D77: Тр №1 | E77: г.Жезказган мкр 2 | F77: ЦЖГЭС | G77: 6/0,4 | H77: 630 | I77: 40107.9 | J77: =I77/744/1000 -> 0.053908468 | K77: =H77*744*1.38 -> 646833.6 | L77: =K77/744/1000 -> 0.8694 | M77: =(I77/K77)*100 -> 6.2006519 | N77: =H77/1000*0.8-J77 -> 0.45009153
A78: 50 | B78: ТП-6 мкр-2 | C78: 9716088000269 | D78: Тр №1 | E78: г.Жезказган мкр 2 | F78: ЦЖГЭС | G78: 6/0,4 | H78: 630 | I78: 73599.372 | J78: =I78/744/1000 -> 0.098923887 | K78: =H78*744*1.38 -> 646833.6 | L78: =K78/744/1000 -> 0.8694 | M78: =(I78/K78)*100 -> 11.378409 | N78: =H78/1000*0.8-J78 -> 0.40507611
A79: 51 | B79: ТП-8 мкр-2 | C79: 9716087000317 | D79: Тр №1 | E79: г.Жезказган мкр 2 | F79: ЦЖГЭС | G79: 6/0,4 | H79: 630 | I79: 62023.128 | J79: =I79/744/1000 -> 0.083364419 | K79: =H79*744*1.38 -> 646833.6 | L79: =K79/744/1000 -> 0.8694 | M79: =(I79/K79)*100 -> 9.5887301 | N79: =H79/1000*0.8-J79 -> 0.42063558
A80: 52 | B80: ТП-10 мкр-2 | C80: 9716087000174 | D80: Тр №1 | E80: г.Жезказган мкр 2 | F80: ЦЖГЭС | G80: 6/0,4 | H80: 630 | I80: 66977.82 | J80: =I80/744/1000 -> 0.090023952 | K80: =H80*744*1.38 -> 646833.6 | L80: =K80/744/1000 -> 0.8694 | M80: =(I80/K80)*100 -> 10.354722 | N80: =H80/1000*0.8-J80 -> 0.41397605
A81: 53 | B81: ТП-6 мкр-5 | C81: 9716088000377 | D81: Тр №1 | E81: г.Жезказган мкр 5 | F81: ЦЖГЭС | G81: 6/0,4 | H81: 630 | I81: 79246.992 | J81: =I81/744/1000 -> 0.10651477 | K81: =H81*744*1.38 -> 646833.6 | L81: =K81/744/1000 -> 0.8694 | M81: =(I81/K81)*100 -> 12.251527 | N81: =H81/1000*0.8-J81 -> 0.39748523
A82: 54 | B82: ТП квл-8 | C82: 9716087000049 | D82: Тр №1 | E82: г.Жезказган 8 квартал | F82: ЦЖГЭС | G82: 6/0,4 | H82: 630 | I82: 115706.26 | J82: =I82/744/1000 -> 0.15551916 | K82: =H82*744*1.38 -> 646833.6 | L82: =K82/744/1000 -> 0.8694 | M82: =(I82/K82)*100 -> 17.888102 | N82: =H82/1000*0.8-J82 -> 0.34848084
A83: 55 | B83: ТП квл-79 | C83: 9716088000520 | D83: Тр №1 | E83: г.Жезказган 79 квартал | F83: ЦЖГЭС | G83: 6/0,4 | H83: 630 | I83: 79630.32 | J83: =I83/744/1000 -> 0.10703 | K83: =H83*744*1.38 -> 646833.6 | L83: =K83/744/1000 -> 0.8694 | M83: =(I83/K83)*100 -> 12.310789 | N83: =H83/1000*0.8-J83 -> 0.39697
A84: 56 | B84: КТПН-Амбулаторная | C84: 9716087000375 | D84: Тр №1 | E84: г.Жезказган, район поликлиники "Каратал" | F84: ЦЖГЭС | G84: 6/0,4 | H84: 400 | I84: 60584.532 | J84: =I84/744/1000 -> 0.081430823 | K84: =H84*744*1.38 -> 410688 | L84: =K84/744/1000 -> 0.552 | M84: =(I84/K84)*100 -> 14.751961 | N84: =H84/1000*0.8-J84 -> 0.23856918
A85: 57 | B85: КТП-1 Рыбачий | C85: 9716088000484 | D85: Тр №1 | E85: г.Жезказган п.Рыбачий | F85: ЦЖГЭС | G85: 6/0,4 | H85: 630 | I85: 61655.148 | J85: =I85/744/1000 -> 0.082869823 | K85: =H85*744*1.38 -> 646833.6 | L85: =K85/744/1000 -> 0.8694 | M85: =(I85/K85)*100 -> 9.5318406 | N85: =H85/1000*0.8-J85 -> 0.42113018
A86: 58 | B86: КТП-2 Рыбачий | C86: 9716087000395 | D86: Тр №1 | E86: г.Жезказган п.Рыбачий | F86: ЦЖГЭС | G86: 6/0,4 | H86: 630 | I86: 59735.616 | J86: =I86/744/1000 -> 0.080289806 | K86: =H86*744*1.38 -> 646833.6 | L86: =K86/744/1000 -> 0.8694 | M86: =(I86/K86)*100 -> 9.2350824 | N86: =H86/1000*0.8-J86 -> 0.42371019
A87: 59 | B87: ТП-1 мкр-1 | C87: 9716088000513 | D87: Тр №1 | E87: г.Жезказган мкр 1 | F87: ЦЖГЭС | G87: 6/0,4 | H87: 630 | I87: 50523.756 | J87: =I87/744/1000 -> 0.067908274 | K87: =H87*744*1.38 -> 646833.6 | L87: =K87/744/1000 -> 0.8694 | M87: =(I87/K87)*100 -> 7.8109356 | N87: =H87/1000*0.8-J87 -> 0.43609173
A88: 60 | B88: ТП-1А мкр-1 | C88: 9716087000059 | D88: Тр №1 | E88: г.Жезказган мкр 1 | F88: ЦЖГЭС | G88: 6/0,4 | H88: 400 | I88: 8238.636 | J88: =I88/744/1000 -> 0.011073435 | K88: =H88*744*1.38 -> 410688 | L88: =K88/744/1000 -> 0.552 | M88: =(I88/K88)*100 -> 2.0060572 | N88: =H88/1000*0.8-J88 -> 0.30892656
... A92: 64 | B92: ТП-7 мкр-1 | C92: 9716088000015 | D92: Тр №1 | E92: г.Жезказган мкр 1 | F92: ЦЖГЭС | G92: 6/0,4 | H92: 400 | I92: 91764.384 | J92: =I92/744/1000 -> 0.12333923 | K92: =H92*744*1.38 -> 410688 | L92: =K92/744/1000 -> 0.552 | M92: =(I92/K92)*100 -> 22.344063 | N92: =H92/1000*0.8-J92 -> 0.19666077
A93: 65 | B93: КТП-1 Горком | D93: Тр №1 | E93: г.Жезказган мкр 1 | F93: ЦЖГЭС | G93: 6/0,4 | H93: 400 | I93: 0 | J93: =I93/744/1000 -> 0 | K93: =H93*744*1.38 -> 410688 | L93: =K93/744/1000 -> 0.552 | M93: =(I93/K93)*100 -> 0 | N93: =H93/1000*0.8-J93 -> 0.32
A94: 66 | B94: КТП-2 Горком | D94: Тр №1 | E94: г.Жезказган мкр 1 | F94: ЦЖГЭС | G94: 6/0,4 | H94: 400 | I94: 0 | J94: =I94/744/1000 -> 0 | K94: =H94*744*1.38 -> 410688 | L94: =K94/744/1000 -> 0.552 | M94: =(I94/K94)*100 -> 0 | N94: =H94/1000*0.8-J94 -> 0.32
A95: 67 | B95: ТП-1 мкр-2 | C95: 9716088000529 | D95: Тр №1 | E95: г.Жезказган мкр 2 | F95: ЦЖГЭС | G95: 6/0,4 | H95: 320 | I95: 95083.128 | J95: =I95/744/1000 -> 0.1277999 | K95: =H95*744*1.38 -> 328550.4 | L95: =K95/744/1000 -> 0.4416 | M95: =(I95/K95)*100 -> 28.940195 | N95: =H95/1000*0.8-J95 -> 0.1282001
A96: 68 | B96: ТП-2 мкр-2 | C96: 9716087001025 | D96: Тр №1 | E96: г.Жезказган мкр 2 | F96: ЦЖГЭС | G96: 6/0,4 | H96: 400 | I96: 57539.532 | J96: =I96/744/1000 -> 0.077338081 | K96: =H96*744*1.38 -> 410688 | L96: =K96/744/1000 -> 0.552 | M96: =(I96/K96)*100 -> 14.010522 | N96: =H96/1000*0.8-J96 -> 0.24266192
A97: 69 | B97: ТП-3 мкр-2 | C97: 9716087000923 | D97: Тр №1 | E97: г.Жезказган мкр 2 | F97: ЦЖГЭС | G97: 6/0,4 | H97: 320 | I97: 56962.5 | J97: =I97/744/1000 -> 0.0765625 | K97: =H97*744*1.38 -> 328550.4 | L97: =K97/744/1000 -> 0.4416 | M97: =(I97/K97)*100 -> 17.337523 | N97: =H97/1000*0.8-J97 -> 0.1794375
A98: 70 | B98: ТП-5 мкр-2 | C98: 9716087000875 | D98: Тр №1 | E98: г.Жезказган мкр 2 | F98: ЦЖГЭС | G98: 6/0,4 | H98: 320 | I98: 65549.064 | J98: =I98/744/1000 -> 0.088103581 | K98: =H98*744*1.38 -> 328550.4 | L98: =K98/744/1000 -> 0.4416 | M98: =(I98/K98)*100 -> 19.950992 | N98: =H98/1000*0.8-J98 -> 0.16789642
A99: 71 | B99: ТП-7 мкр-2 | C99: 9716087000589 | D99: Тр №1 | E99: г.Жезказган мкр 2 | F99: ЦЖГЭС | G99: 6/0,4 | H99: 400 | I99: 50650.32 | J99: =I99/744/1000 -> 0.068078387 | K99: =H99*744*1.38 -> 410688 | L99: =K99/744/1000 -> 0.552 | M99: =(I99/K99)*100 -> 12.333041 | N99: =H99/1000*0.8-J99 -> 0.25192161
A100: 72 | B100: ТП-9 мкр-2. | C100: 9716087000180 | D100: Тр №1 | E100: г.Жезказган мкр 2 | F100: ЦЖГЭС | G100: 6/0,4 | H100: 630 | I100: 116846.26 | J100: =I100/744/1000 -> 0.15705142 | K100: =H100*744*1.38 -> 646833.6 | L100: =K100/744/1000 -> 0.8694 | M100: =(I100/K100)*100 -> 18.064345 | N100: =H100/1000*0.8-J100 -> 0.34694858
A101: 73 | B101: ТП-9А мкр-2. | C101: 9716087000778 | D101: Тр №1 | E101: г.Жезказган мкр 2 | F101: ЦЖГЭС | G101: 6/0,4 | H101: 630 | I101: 90117.192 | J101: =I101/744/1000 -> 0.12112526 | K101: =H101*744*1.38 -> 646833.6 | L101: =K101/744/1000 -> 0.8694 | M101: =(I101/K101)*100 -> 13.932052 | N101: =H101/1000*0.8-J101 -> 0.38287474
A102: 74 | B102: ТП-11 мкр 2 | C102: 9716088000211 | D102: Тр №1 | E102: г.Жезказган мкр 2 | F102: ЦЖГЭС | G102: 6/0,4 | H102: 400 | I102: 65783.436 | J102: =I102/744/1000 -> 0.088418597 | K102: =H102*744*1.38 -> 410688 | L102: =K102/744/1000 -> 0.552 | M102: =(I102/K102)*100 -> 16.017862 | N102: =H102/1000*0.8-J102 -> 0.2315814
A103: 75 | B103: ТП-1 мкр-3. | C103: 9716088000062 | D103: Тр №1 | E103: г.Жезказган мкр 3 | F103: ЦЖГЭС | G103: 6/0,4 | H103: 250 | I103: 31102.032 | J103: =I103/744/1000 -> 0.041803806 | K103: =H103*744*1.38 -> 256680 | L103: =K103/744/1000 -> 0.345 | M103: =(I103/K103)*100 -> 12.117045 | N103: =H103/1000*0.8-J103 -> 0.15819619
A104: 76 | B104: ТП-1А мкр-3 | C104: 9716087001031 | D104: Тр №1 | E104: г.Жезказган мкр 3 | F104: ЦЖГЭС | G104: 6/0,4 | H104: 400 | I104: 21290.856 | J104: =I104/744/1000 -> 0.028616742 | K104: =H104*744*1.38 -> 410688 | L104: =K104/744/1000 -> 0.552 | M104: =(I104/K104)*100 -> 5.1841924 | N104: =H104/1000*0.8-J104 -> 0.29138326
A105: 77 | B105: ТП-2 мкр-3 | C105: 9716088000200 | D105: Тр №1 | E105: г.Жезказган мкр 3 | F105: ЦЖГЭС | G105: 6/0,4 | H105: 400 | I105: 89830.308 | J105: =I105/744/1000 -> 0.12073966 | K105: =H105*744*1.38 -> 410688 | L105: =K105/744/1000 -> 0.552 | M105: =(I105/K105)*100 -> 21.873127 | N105: =H105/1000*0.8-J105 -> 0.19926034
A106: 78 | B106: ТП-4 мкр-3 | C106: 9716087000046 | D106: Тр №1 | E106: г.Жезказган мкр 3 | F106: ЦЖГЭС | G106: 6/0,4 | H106: 320 | I106: 17255.388 | J106: =I106/744/1000 -> 0.023192726 | K106: =H106*744*1.38 -> 328550.4 | L106: =K106/744/1000 -> 0.4416 | M106: =(I106/K106)*100 -> 5.251976 | N106: =H106/1000*0.8-J106 -> 0.23280727
A107: 79 | B107: ТП-5 мкр-3 | C107: 9716088000225 | D107: Тр №1 | E107: г.Жезказган мкр 3 | F107: ЦЖГЭС | G107: 6/0,4 | H107: 400 | I107: 65400.936 | J107: =I107/744/1000 -> 0.087904484 | K107: =H107*744*1.38 -> 410688 | L107: =K107/744/1000 -> 0.552 | M107: =(I107/K107)*100 -> 15.924725 | N107: =H107/1000*0.8-J107 -> 0.23209552
A108: 80 | B108: ТП-1 мкр-4 | C108: 9716087000349 | D108: Тр №1 | E108: г.Жезказган мкр 4 | F108: ЦЖГЭС | G108: 6/0,4 | H108: 630 | I108: 111498.76 | J108: =I108/744/1000 -> 0.14986392 | K108: =H108*744*1.38 -> 646833.6 | L108: =K108/744/1000 -> 0.8694 | M108: =(I108/K108)*100 -> 17.237626 | N108: =H108/1000*0.8-J108 -> 0.35413608
...
