Workbook

Sheet г.Сатпаев 
B3: Реестр данных по загрузке подстанции ПЭС ТОО "Казахмыс Дистрибьюшн" за сентябрь 2026 года
A7: п/п № | B7: Наименование ПС | E7: Адрес нахождения | F7: Цех | G7: Уровень напряжения, кВ | H7: Мощность трансформатора,кВА | I7: нагрузка ,в кВт.час | J7: нагрузка ,в МВт | K7: максимальная нагрузка,кВт | L7: максимальная нагрузка,МВт | M7: % загрузки | N7: Свободная мощность,МВт
C8: №
B9: г.Сатпаев
A10: 1 | B10: ЦРП-1 | D10: Тр №1 | E10: г.Сатпаев | F10: ЦСЭС | G10: 35/6 | H10: 6300 | I10: 1217520 | J10: =I10/744/1000 -> 1.6364516 | K10: =H10*744*1.38 -> 6468336 | L10: =K10/744/1000 -> 8.694 | M10: =(I10/K10)*100 -> 18.82277 | N10: =H10/1000*0.8-J10 -> 3.4035484
D11: Тр №2 | E11: г.Сатпаев | G11: 35/6 | H11: 6300 | I11: 1431480 | J11: =I11/744/1000 -> 1.9240323 | K11: =H11*744*1.38 -> 6468336 | L11: =K11/744/1000 -> 8.694 | M11: =(I11/K11)*100 -> 22.130576 | N11: =H11/1000*0.8-J11 -> 3.1159677
A12: 2 | B12: ЦРП-2 | D12: Тр №1 | E12: г.Сатпаев | F12: ЦСЭС | G12: 35/6 | H12: 6300 | I12: 1091520 | J12: =I12/744/1000 -> 1.4670968 | K12: =H12*744*1.38 -> 6468336 | L12: =K12/744/1000 -> 8.694 | M12: =(I12/K12)*100 -> 16.874819 | N12: =H12/1000*0.8-J12 -> 3.5729032
D13: Тр №2 | E13: г.Сатпаев | G13: 35/6 | H13: 6300 | I13: 763920 | J13: =I13/744/1000 -> 1.0267742 | K13: =H13*744*1.38 -> 6468336 | L13: =K13/744/1000 -> 8.694 | M13: =(I13/K13)*100 -> 11.810147 | N13: =H13/1000*0.8-J13 -> 4.0132258
A14: 3 | B14: ЦРП-3 | D14: Тр №1 | E14: г.Сатпаев | F14: ЦСЭС | G14: 35/6 | H14: 10000 | I14: 1696512 | J14: =I14/744/1000 -> 2.2802581 | K14: =H14*744*1.38 -> 10267200 | L14: =K14/744/1000 -> 13.8 | M14: =(I14/K14)*100 -> 16.523609 | N14: =H14/1000*0.8-J14 -> 5.7197419
D15: Тр №2 | E15: г.Сатпаев | G15: 35/6 | H15: 10000 | I15: 1314144 | J15: =I15/744/1000 -> 1.7663226 | K15: =H15*744*1.38 -> 10267200 | L15: =K15/744/1000 -> 13.8 | M15: =(I15/K15)*100 -> 12.799439 | N15: =H15/1000*0.8-J15 -> 6.2336774
A16: 4 | B16: ЦРП-4 | D16: Тр №1 | E16: г.Сатпаев | F16: ЦСЭС | G16: 35/6 | H16: 10000 | I16: 1385280 | J16: =I16/744/1000 -> 1.8619355 | K16: =H16*744*1.38 -> 10267200 | L16: =K16/744/1000 -> 13.8 | M16: =(I16/K16)*100 -> 13.492286 | N16: =H16/1000*0.8-J16 -> 6.1380645
D17: Тр №2 | E17: г.Сатпаев | G17: 35/6 | H17: 10000 | I17: 514440 | J17: =I17/744/1000 -> 0.69145161 | K17: =H17*744*1.38 -> 10267200 | L17: =K17/744/1000 -> 13.8 | M17: =(I17/K17)*100 -> 5.0105189 | N17: =H17/1000*0.8-J17 -> 7.3085484
A18: 5 | B18: ЦРП-5 | D18: Тр №1 | E18: г.Сатпаев | F18: ЦСЭС | G18: 35/6 | H18: 10000 | I18: 123360 | J18: =I18/744/1000 -> 0.16580645 | K18: =H18*744*1.38 -> 10267200 | L18: =K18/744/1000 -> 13.8 | M18: =(I18/K18)*100 -> 1.201496 | N18: =H18/1000*0.8-J18 -> 7.8341935
D19: Тр №2 | E19: г.Сатпаев | G19: 35/6 | H19: 10000 | I19: 923280 | J19: =I19/744/1000 -> 1.2409677 | K19: =H19*744*1.38 -> 10267200 | L19: =K19/744/1000 -> 13.8 | M19: =(I19/K19)*100 -> 8.9925199 | N19: =H19/1000*0.8-J19 -> 6.7590323
A20: 6 | B20: ЦРП- 3-го подъема | D20: Тр №1 | E20: г.Сатпаев | F20: ЦСЭС | G20: 35/6 | H20: 1000 | I20: 14800 | J20: =I20/744/1000 -> 0.019892473 | K20: =H20*744*1.38 -> 1026720 | L20: =K20/744/1000 -> 1.38 | M20: =(I20/K20)*100 -> 1.4414836 | N20: =H20/1000*0.8-J20 -> 0.78010753
D21: Тр №2 | E21: г.Сатпаев | F21: ЦСЭС | G21: 35/6 | H21: 1000 | I21: 10000 | J21: =I21/744/1000 -> 0.01344086 | K21: =H21*744*1.38 -> 1026720 | L21: =K21/744/1000 -> 1.38 | M21: =(I21/K21)*100 -> 0.97397538 | N21: =H21/1000*0.8-J21 -> 0.78655914
A22: 7 | B22: ТП-1 мкр-1 | C22: NF003707 | D22: Тр №1 | E22: г.Сатпаев мкр 1 | F22: ЦСЭС | G22: 6/0,4 | H22: 630 | I22: 140400 | J22: =I22/744/1000 -> 0.18870968 | K22: =H22*744*1.38 -> 646833.6 | L22: =K22/744/1000 -> 0.8694 | M22: =(I22/K22)*100 -> 21.705737 | N22: =H22/1000*0.8-J22 -> 0.31529032
B23: ТП-ДРМСУ | C23: 21718489 | D23: Тр №1 | E23: г.Сатпаев, промзона | F23: ЦСЭС | G23: 6/0,4 | H23: 630 | I23: 2109 | J23: =I23/744/1000 -> 0.0028346774 | K23: =H23*744*1.38 -> 646833.6 | L23: =K23/744/1000 -> 0.8694 | M23: =(I23/K23)*100 -> 0.32604985 | N23: =H23/1000*0.8-J23 -> 0.50116532
A24: 8 | B24: ТП - 9 квартал | C24: 3738 | D24: Тр №1 | E24: г.Сатпаев 9 квартал | F24: ЦСЭС | G24: 6/0,4 | H24: 630 | I24: 91200 | J24: =I24/744/1000 -> 0.12258065 | K24: =H24*744*1.38 -> 646833.6 | L24: =K24/744/1000 -> 0.8694 | M24: =(I24/K24)*100 -> 14.099453 | N24: =H24/1000*0.8-J24 -> 0.38141935
B25: ТП - 10 квартал | C25: NF004037 | D25: Тр №1 | E25: г.Сатпаев 10 квартал | F25: ЦСЭС | G25: 6/0,4 | H25: 630 | I25: 101200 | J25: =I25/744/1000 -> 0.13602151 | K25: =H25*744*1.38 -> 646833.6 | L25: =K25/744/1000 -> 0.8694 | M25: =(I25/K25)*100 -> 15.645446 | N25: =H25/1000*0.8-J25 -> 0.36797849
A26: 9 | B26: ТП - 21 квартал | C26: NF004061 | D26: Тр №1 | E26: г.Сатпаев 21 квартал | F26: ЦСЭС | G26: 6/0,4 | H26: 630 | I26: 20640 | J26: =I26/744/1000 -> 0.027741935 | K26: =H26*744*1.38 -> 646833.6 | L26: =K26/744/1000 -> 0.8694 | M26: =(I26/K26)*100 -> 3.1909289 | N26: =H26/1000*0.8-J26 -> 0.47625806
B27: ТП -2 Западный район | C27: 8331578 | D27: Тр №1 | E27: г.Сатпаев Западный район | F27: ЦСЭС | G27: 6/0,4 | H27: 630 | I27: 107652.2 | J27: =I27/744/1000 -> 0.14469382 | K27: =H27*744*1.38 -> 646833.6 | L27: =K27/744/1000 -> 0.8694 | M27: =(I27/K27)*100 -> 16.642951 | N27: =H27/1000*0.8-J27 -> 0.35930618
A28: 10 | B28: ТП-ПЭС№2 | D28: Тр №1 | E28: г.Сатпаев промзона | F28: ЦСЭС | G28: 6/0,4 | H28: 630 | I28: 15348 | J28: =I28/744/1000 -> 0.020629032 | K28: =H28*744*1.38 -> 646833.6 | L28: =K28/744/1000 -> 0.8694 | M28: =(I28/K28)*100 -> 2.3727895 | N28: =H28/1000*0.8-J28 -> 0.48337097
A29: 11 | B29: ТП-4 мкр-3/4 | C29: 11178633 | D29: Тр №1 | E29: г.Сатпаев мкр 3-4 | F29: ЦСЭС | G29: 6/0,4 | H29: 630 | I29: 102000 | J29: =I29/744/1000 -> 0.13709677 | K29: =H29*744*1.38 -> 646833.6 | L29: =K29/744/1000 -> 0.8694 | M29: =(I29/K29)*100 -> 15.769125 | N29: =H29/1000*0.8-J29 -> 0.36690323
C30: 13055064 | D30: Тр №2 | E30: г.Сатпаев мкр 3-4 | G30: 6/0,4 | H30: 630 | I30: 126120 | J30: =I30/744/1000 -> 0.16951613 | K30: =H30*744*1.38 -> 646833.6 | L30: =K30/744/1000 -> 0.8694 | M30: =(I30/K30)*100 -> 19.498059 | N30: =H30/1000*0.8-J30 -> 0.33448387
A31: 12 | B31: ТП-10 мкр- 3/4 | C31: 3693 | D31: Тр №1 | E31: г.Сатпаев мкр 3-4 | F31: ЦСЭС | G31: 6/0,4 | H31: 560 | I31: 155800 | J31: =I31/744/1000 -> 0.2094086 | K31: =H31*744*1.38 -> 574963.2 | L31: =K31/744/1000 -> 0.7728 | M31: =(I31/K31)*100 -> 27.097386 | N31: =H31/1000*0.8-J31 -> 0.2385914
C32: 3851 | D32: Тр №2 | E32: г.Сатпаев мкр 3-4 | G32: 6/0,4 | H32: 630 | I32: 142800 | J32: =I32/744/1000 -> 0.19193548 | K32: =H32*744*1.38 -> 646833.6 | L32: =K32/744/1000 -> 0.8694 | M32: =(I32/K32)*100 -> 22.076775 | N32: =H32/1000*0.8-J32 -> 0.31206452
A33: 13 | B33: ТП-12 мкр- 3/4 | C33: 3863 | D33: Тр №1 | E33: г.Сатпаев мкр 3-4 | F33: ЦСЭС | G33: 6/0,4 | H33: 630 | I33: 59640 | J33: =I33/744/1000 -> 0.08016129 | K33: =H33*744*1.38 -> 646833.6 | L33: =K33/744/1000 -> 0.8694 | M33: =(I33/K33)*100 -> 9.2203002 | N33: =H33/1000*0.8-J33 -> 0.42383871
A34: 14 | B34: ТП-1 мкр- 7 | C34: 11178797 | D34: Тр №1 | E34: г.Сатпаев мкр 7 | F34: ЦСЭС | G34: 6/0,4 | H34: 1000 | I34: 79200 | J34: =I34/744/1000 -> 0.10645161 | K34: =H34*744*1.38 -> 1026720 | L34: =K34/744/1000 -> 1.38 | M34: =(I34/K34)*100 -> 7.713885 | N34: =H34/1000*0.8-J34 -> 0.69354839
C35: 11178762 | D35: Тр №2 | E35: г.Сатпаев мкр 7 | G35: 6/0,4 | H35: 630 | I35: 92640 | J35: =I35/744/1000 -> 0.12451613 | K35: =H35*744*1.38 -> 646833.6 | L35: =K35/744/1000 -> 0.8694 | M35: =(I35/K35)*100 -> 14.322076 | N35: =H35/1000*0.8-J35 -> 0.37948387
A36: 15 | B36: ТП- 2 мкр- 7 | C36: 38574161 | D36: Тр №1 | E36: г.Сатпаев мкр 7 | F36: ЦСЭС | G36: 6/0,4 | H36: 1000 | I36: 116600 | J36: =I36/744/1000 -> 0.15672043 | K36: =H36*744*1.38 -> 1026720 | L36: =K36/744/1000 -> 1.38 | M36: =(I36/K36)*100 -> 11.356553 | N36: =H36/1000*0.8-J36 -> 0.64327957
C37: 13140702 | D37: Тр №2 | E37: г.Сатпаев мкр 7 | G37: 6/0,4 | H37: 630 | I37: 123800 | J37: =I37/744/1000 -> 0.16639785 | K37: =H37*744*1.38 -> 646833.6 | L37: =K37/744/1000 -> 0.8694 | M37: =(I37/K37)*100 -> 19.139389 | N37: =H37/1000*0.8-J37 -> 0.33760215
A38: 16 | B38: ТП-3 мкр- 7 | C38: 37874357 | D38: Тр №1 | E38: г.Сатпаев мкр 7 | F38: ЦСЭС | G38: 6/0,4 | H38: 630 | I38: 83040 | J38: =I38/744/1000 -> 0.1116129 | K38: =H38*744*1.38 -> 646833.6 | L38: =K38/744/1000 -> 0.8694 | M38: =(I38/K38)*100 -> 12.837923 | N38: =H38/1000*0.8-J38 -> 0.3923871
C39: 37876535 | D39: Тр №2 | E39: г.Сатпаев мкр 7 | G39: 6/0,4 | H39: 630 | I39: 139440 | J39: =I39/744/1000 -> 0.18741935 | K39: =H39*744*1.38 -> 646833.6 | L39: =K39/744/1000 -> 0.8694 | M39: =(I39/K39)*100 -> 21.557322 | N39: =H39/1000*0.8-J39 -> 0.31658065
A40: 17 | B40: ТП-2 СОК | C40: 8957620 | D40: Тр №1 | E40: г.Сатпаев мкр 5 | F40: ЦСЭС | G40: 6/0,4 | H40: 630 | I40: 1400 | J40: =I40/744/1000 -> 0.0018817204 | K40: =H40*744*1.38 -> 646833.6 | L40: =K40/744/1000 -> 0.8694 | M40: =(I40/K40)*100 -> 0.21643897 | N40: =H40/1000*0.8-J40 -> 0.50211828
C41: 8961818 | D41: Тр №2 | E41: г.Сатпаев мкр 5 | G41: 6/0,4 | H41: 630 | I41: 1800 | J41: =I41/744/1000 -> 0.0024193548 | K41: =H41*744*1.38 -> 646833.6 | L41: =K41/744/1000 -> 0.8694 | M41: =(I41/K41)*100 -> 0.27827868 | N41: =H41/1000*0.8-J41 -> 0.50158065
A42: 18 | B42: КТП-1 СОК | C42: 8963723 | D42: Тр №1 | E42: г.Сатпаев мкр 5 | F42: ЦСЭС | G42: 6/0,4 | H42: 1600 | I42: 40000 | J42: =I42/744/1000 -> 0.053763441 | K42: =H42*744*1.38 -> 1642752 | L42: =K42/744/1000 -> 2.208 | M42: =(I42/K42)*100 -> 2.4349384 | N42: =H42/1000*0.8-J42 -> 1.2262366
C43: 8963809 | D43: Тр №2 | E43: г.Сатпаев мкр 5 | G43: 6/0,4 | H43: 1600 | I43: 80800 | J43: =I43/744/1000 -> 0.10860215 | K43: =H43*744*1.38 -> 1642752 | L43: =K43/744/1000 -> 2.208 | M43: =(I43/K43)*100 -> 4.9185757 | N43: =H43/1000*0.8-J43 -> 1.1713978
A44: 19 | B44: ТП-Гл.фекальная | C44: 441761 | D44: Тр №1 | E44: г.Сатпаев ,промзона | F44: ЦСЭС | G44: 6/0,4 | H44: 630 | I44: 22440 | J44: =I44/744/1000 -> 0.03016129 | K44: =H44*744*1.38 -> 646833.6 | L44: =K44/744/1000 -> 0.8694 | M44: =(I44/K44)*100 -> 3.4692075 | N44: =H44/1000*0.8-J44 -> 0.47383871
C45: 656260 | D45: Тр №2 | E45: г.Сатпаев ,промзона | G45: 6/0,4 | H45: 400 | I45: 14640 | J45: =I45/744/1000 -> 0.019677419 | K45: =H45*744*1.38 -> 410688 | L45: =K45/744/1000 -> 0.552 | M45: =(I45/K45)*100 -> 3.5647499 | N45: =H45/1000*0.8-J45 -> 0.30032258
...

Sheet г.Жезказган
B3: ='г.Сатпаев '!B3 -> Реестр данных по загрузке подстанции ПЭС ТОО "Казахмыс Дистрибьюшн" за сентябрь 2026 года
A7: п/п № | B7: Наименование ПС | D7: № ввода | E7: Адрес нахождения | F7: Цех | G7: Уровень напряжения, кВ | H7: Мощность трансформатора,кВА | I7: нагрузка ,в кВт.час | J7: нагрузка ,в МВт | K7: максимальная нагрузка,кВт | L7: максимальная нагрузка,МВт | M7: Загрузка, МВт | N7: Свободная мощность,МВт
C8: № | V8: 2 города
B9: г.Жезказган | S9: ЦЖЭС | T9: ЦЖГЭС | U9: итого
A10: 1 | B10: ГПП-Жомарт | D10: Тр №1 | E10: на территории рудника Жомарт ПО "ЖЦМ" | F10: ЦЖЭС | G10: 110/35/6 | H10: 16000 | I10: 2488702 | J10: =I10/744/1000 -> 3.3450296 | K10: =H10*744*1.38 -> 16427520 | L10: =K10/744/1000 -> 22.08 | M10: =(I10/K10)*100 -> 15.14959 | N10: =H10/1000*0.8-J10 -> 9.4549704 | R10: 110 | S10: =SUM(H10:H11) -> 32000 | U10: =T10+S10 -> 32000 | V10: =U10+'г.Сатпаев '!T168 -> 338900
D11: Тр №2 | E11: на территории рудника Жомарт ПО "ЖЦМ" | F11: ЦЖЭС | G11: 110/35/6 | H11: 16000 | I11: 3313130 | J11: =I11/744/1000 -> 4.4531317 | K11: =H11*744*1.38 -> 16427520 | L11: =K11/744/1000 -> 22.08 | M11: =(I11/K11)*100 -> 20.168169 | N11: =H11/1000*0.8-J11 -> 8.3468683 | R11: 35 | S11: =SUM(H12:H22) -> 45200 | T11: =SUM(H56:H76) -> 116600 | U11: =T11+S11 -> 161800 | V11: =U11+'г.Сатпаев '!T169 -> 452400
A12: 2 | B12: ЦРП-ХПВЗ | D12: Тр №1 | E12: г.Жезказган , район пионер лагеря "Орленок" | F12: ЦЖЭС | G12: 35/6 | H12: 3200 | I12: 12960 | J12: =I12/744/1000 -> 0.017419355 | K12: =H12*744*1.38 -> 3285504 | L12: =K12/744/1000 -> 4.416 | M12: =(I12/K12)*100 -> 0.39446003 | N12: =H12/1000*0.8-J12 -> 2.5425806 | R12: 6 | S12: =SUM(H23:H55) -> 12776 | T12: =SUM(H77:H304) -> 90920 | U12: =T12+S12 -> 103696 | V12: =U12+'г.Сатпаев '!T170 -> 176846
D13: Тр №2 | E13: г.Жезказган , район пионер лагеря "Орленок" | F13: ЦЖЭС | G13: 35/6 | H13: 3200 | I13: 580800 | J13: =I13/744/1000 -> 0.78064516 | K13: =H13*744*1.38 -> 3285504 | L13: =K13/744/1000 -> 4.416 | M13: =(I13/K13)*100 -> 17.677653 | N13: =H13/1000*0.8-J13 -> 1.7793548 | V13: =V10+V11+V12 -> 968146
A14: 3 | B14: ЦРП-Здравница | D14: Тр №1 | E14: г.Жезказган , Дачный поселок Здравница | F14: ЦЖЭС | G14: 35/6 | H14: 3200 | I14: 332400 | J14: =I14/744/1000 -> 0.44677419 | K14: =H14*744*1.38 -> 3285504 | L14: =K14/744/1000 -> 4.416 | M14: =(I14/K14)*100 -> 10.117169 | N14: =H14/1000*0.8-J14 -> 2.1132258
A15: 4 | B15: ЦРП-8 | D15: Тр №1 | E15: г.Жезказган, промзона | F15: ЦЖЭС | G15: 35/6 | H15: 10000 | I15: 316920 | J15: =I15/744/1000 -> 0.42596774 | K15: =H15*744*1.38 -> 10267200 | L15: =K15/744/1000 -> 13.8 | M15: =(I15/K15)*100 -> 3.0867228 | N15: =H15/1000*0.8-J15 -> 7.5740323
D16: Тр №2 | E16: г.Жезказган, промзона | F16: ЦЖЭС | G16: 35/6 | H16: 10000 | I16: 482160 | J16: =I16/744/1000 -> 0.64806452 | K16: =H16*744*1.38 -> 10267200 | L16: =K16/744/1000 -> 13.8 | M16: =(I16/K16)*100 -> 4.6961197 | N16: =H16/1000*0.8-J16 -> 7.3519355
A17: 5 | B17: ЦРП-5Т | D17: Тр №1 с 11Ц | E17: г.Жезказган , район трассы Жезказган-Сатпаев | F17: ЦЖЭС | G17: 35/6 | H17: 4000 | I17: 711060 | J17: =I17/744/1000 -> 0.95572581 | K17: =H17*744*1.38 -> 4106880 | L17: =K17/744/1000 -> 5.52 | M17: =(I17/K17)*100 -> 17.313873 | N17: =H17/1000*0.8-J17 -> 2.2442742
D18: Тр №2 с 13Ц | E18: г.Жезказган , район трассы Жезказган-Сатпаев | F18: ЦЖЭС | G18: 35/6 | H18: 4000 | I18: 766500 | J18: =I18/744/1000 -> 1.0302419 | K18: =H18*744*1.38 -> 4106880 | L18: =K18/744/1000 -> 5.52 | M18: =(I18/K18)*100 -> 18.663803 | N18: =H18/1000*0.8-J18 -> 2.1697581
A19: 6 | B19: ЦРП-КЦМР | D19: Тр №1 | E19: г.Жезказган, территория предприятия РМСУ | F19: ЦЖЭС | G19: 35/6 | H19: 1600 | I19: 153672 | J19: =I19/744/1000 -> 0.20654839 | K19: =H19*744*1.38 -> 1642752 | L19: =K19/744/1000 -> 2.208 | M19: =(I19/K19)*100 -> 9.3545465 | N19: =H19/1000*0.8-J19 -> 1.0734516
D20: Тр №2 | E20: г.Жезказган, территория предприятия РМСУ | F20: ЦЖЭС | G20: 35/6 | H20: 1000 | I20: 51768 | J20: =I20/744/1000 -> 0.069580645 | K20: =H20*744*1.38 -> 1026720 | L20: =K20/744/1000 -> 1.38 | M20: =(I20/K20)*100 -> 5.0420757 | N20: =H20/1000*0.8-J20 -> 0.73041935
A21: 7 | B21: ЦРП-Уйтас Айдос | D21: Тр №1 | E21: район скважины Уйтас-Айдос | F21: ЦЖЭС | G21: 35/6 | H21: 2500 | I21: 11088 | J21: =I21/744/1000 -> 0.014903226 | K21: =H21*744*1.38 -> 2566800 | L21: =K21/744/1000 -> 3.45 | M21: =(I21/K21)*100 -> 0.43197756 | N21: =H21/1000*0.8-J21 -> 1.9850968
D22: Тр №2 | E22: район скважины Уйтас-Айдос | F22: ЦЖЭС | G22: 35/6 | H22: 2500 | I22: 175176 | J22: =I22/744/1000 -> 0.23545161 | K22: =H22*744*1.38 -> 2566800 | L22: =K22/744/1000 -> 3.45 | M22: =(I22/K22)*100 -> 6.8246844 | N22: =H22/1000*0.8-J22 -> 1.7645484
A23: 8 | B23: Подстанция на скважинах -35/0,4кВяч№23 | D23: Тр №1 | E23: район скважины Уйтас-Айдос | F23: ЦЖЭС | G23: 6 | H23: 630 | I23: 189900 | J23: =I23/744/1000 -> 0.25524194 | K23: =H23*744*1.38 -> 646833.6 | L23: =K23/744/1000 -> 0.8694 | M23: =(I23/K23)*100 -> 29.358401 | N23: =H23/1000*0.8-J23 -> 0.24875806
A24: 9 | B24: Подстанция на скважинах -35/0,4кВяч№3 | D24: Тр №1 | E24: район скважины Уйтас-Айдос | F24: ЦЖЭС | G24: 6 | H24: 560 | I24: 86420 | J24: =I24/744/1000 -> 0.11615591 | K24: =H24*744*1.38 -> 574963.2 | L24: =K24/744/1000 -> 0.7728 | M24: =(I24/K24)*100 -> 15.030527 | N24: =H24/1000*0.8-J24 -> 0.33184409
A25: 10 | B25: Подстанция на скважинах -35/0,4кВ №34 | D25: Тр №3 | E25: район скважины Уйтас-Айдос | F25: ЦЖЭС | G25: 6 | H25: =560 -> 560 | I25: 0 | J25: =I25/744/1000 -> 0 | K25: =H25*744*1.38 -> 574963.2 | L25: =K25/744/1000 -> 0.7728 | M25: =(I25/K25)*100 -> 0 | N25: =H25/1000*0.8-J25 -> 0.448
A26: 11 | B26: Подстанция на скважинах -35/0,4кВ №34А | D26: Тр №1 | E26: район скважины Уйтас-Айдос | F26: ЦЖЭС | G26: 6 | H26: 1000 | I26: 0 | J26: =I26/744/1000 -> 0 | K26: =H26*744*1.38 -> 1026720 | L26: =K26/744/1000 -> 1.38 | M26: =(I26/K26)*100 -> 0 | N26: =H26/1000*0.8-J26 -> 0.8
A27: 12 | B27: ТП-6/0,4кВ Инженерный корпус | D27: Тр №1 | E27: г.Жезказган | F27: ЦЖЭС | G27: 6/0,4 | H27: 1000 | I27: 27720 | J27: =I27/744/1000 -> 0.037258065 | K27: =H27*744*1.38 -> 1026720 | L27: =K27/744/1000 -> 1.38 | M27: =(I27/K27)*100 -> 2.6998597 | N27: =H27/1000*0.8-J27 -> 0.76274194
D28: Тр №2 | E28: г.Жезказган | F28: ЦЖЭС | G28: 6/0,4 | H28: 1000 | I28: 12943 | J28: =I28/744/1000 -> 0.017396505 | K28: =H28*744*1.38 -> 1026720 | L28: =K28/744/1000 -> 1.38 | M28: =(I28/K28)*100 -> 1.2606163 | N28: =H28/1000*0.8-J28 -> 0.78260349
A29: 13 | B29: ТП-6/0,4кВ Теплая вода№1 | D29: Тр №1 | E29: г.Жезказган район ЖОФ-1,2 | F29: ЦЖЭС | G29: 6/0,4 | H29: 630 | I29: 0 | J29: =I29/744/1000 -> 0 | K29: =H29*744*1.38 -> 646833.6 | L29: =K29/744/1000 -> 0.8694 | M29: =(I29/K29)*100 -> 0 | N29: =H29/1000*0.8-J29 -> 0.504
D30: Тр №2 | E30: г.Жезказган район ЖОФ-1,2 | F30: ЦЖЭС | G30: 6/0,4 | H30: 400 | I30: 9816 | J30: =I30/744/1000 -> 0.013193548 | K30: =H30*744*1.38 -> 410688 | L30: =K30/744/1000 -> 0.552 | M30: =(I30/K30)*100 -> 2.3901356 | N30: =H30/1000*0.8-J30 -> 0.30680645
A31: 14 | B31: ТП-6/0,4кВ Теплая вода№2 | D31: Тр №1 | E31: г.Жезказган район ЖОФ-1,2 | F31: ЦЖЭС | G31: 6/0,4 | H31: 630 | I31: 2664 | J31: =I31/744/1000 -> 0.0035806452 | K31: =H31*744*1.38 -> 646833.6 | L31: =K31/744/1000 -> 0.8694 | M31: =(I31/K31)*100 -> 0.41185245 | N31: =H31/1000*0.8-J31 -> 0.50041935
D32: Тр №2 | E32: г.Жезказган район ЖОФ-1,2 | F32: ЦЖЭС | G32: 6/0,4 | H32: 400 | I32: 23400 | J32: =I32/744/1000 -> 0.031451613 | K32: =H32*744*1.38 -> 410688 | L32: =K32/744/1000 -> 0.552 | M32: =(I32/K32)*100 -> 5.697756 | N32: =H32/1000*0.8-J32 -> 0.28854839
A33: 15 | B33: ТП-6/0,4кВ Гор.хоз-фек.насос. №1 | D33: Тр №1 | E33: г.Жезказган, 9 квартал | F33: ЦЖЭС | G33: 6/0,4 | H33: 250 | I33: 0 | J33: =I33/744/1000 -> 0 | K33: =H33*744*1.38 -> 256680 | L33: =K33/744/1000 -> 0.345 | M33: =(I33/K33)*100 -> 0 | N33: =H33/1000*0.8-J33 -> 0.2
D34: Тр №2 | E34: г.Жезказган, 9 квартал | F34: ЦЖЭС | G34: 6/0,4 | H34: 250 | I34: 3392 | J34: =I34/744/1000 -> 0.0045591398 | K34: =H34*744*1.38 -> 256680 | L34: =K34/744/1000 -> 0.345 | M34: =(I34/K34)*100 -> 1.3214898 | N34: =H34/1000*0.8-J34 -> 0.19544086
A35: 16 | B35: КТП-6/0,4кВ"Ботанический сад" | D35: Тр №1 | E35: г.Жезказган п.Аварийный | F35: ЦЖЭС | G35: 6/0,4 | H35: 250 | I35: 3370 | J35: =I35/744/1000 -> 0.0045295699 | K35: =H35*744*1.38 -> 256680 | L35: =K35/744/1000 -> 0.345 | M35: =(I35/K35)*100 -> 1.3129188 | N35: =H35/1000*0.8-J35 -> 0.19547043
A36: 17 | B36: КТПН-6/0,4кВ Аварийный | D36: Тр №1 | E36: г.Жезказган п.Аварийный | F36: ЦЖЭС | G36: 6/0,4 | H36: 250 | I36: 40840 | J36: =I36/744/1000 -> 0.054892473 | K36: =H36*744*1.38 -> 256680 | L36: =K36/744/1000 -> 0.345 | M36: =(I36/K36)*100 -> 15.910862 | N36: =H36/1000*0.8-J36 -> 0.14510753
A37: 18 | B37: КТП-6/0,4кВ База РЭС гЖез-н | D37: Тр №1 | E37: г.Жезказган | F37: ЦЖЭС | G37: 6/0,4 | H37: 160 | I37: 1120 | J37: =I37/744/1000 -> 0.0015053763 | K37: =H37*744*1.38 -> 164275.2 | L37: =K37/744/1000 -> 0.2208 | M37: =(I37/K37)*100 -> 0.68178276 | N37: =H37/1000*0.8-J37 -> 0.12649462
A38: 19 | B38: КТП-6/0,4кВ Верх.обогатит-я | D38: Тр №1 | E38: г.Жезказган , 5 район | F38: ЦЖЭС | G38: 6/0,4 | H38: 63 | I38: 766 | J38: =I38/744/1000 -> 0.0010295699 | K38: =H38*744*1.38 -> 64683.36 | L38: =K38/744/1000 -> 0.08694 | M38: =(I38/K38)*100 -> 1.1842304 | N38: =H38/1000*0.8-J38 -> 0.04937043
A39: 20 | B39: МТП-6/0,4кВ Верх.обогатит-я | D39: Тр №1 | E39: г.Жезказган , 5 район | F39: ЦЖЭС | G39: 35/0,4 | H39: 160 | I39: 1181 | J39: =I39/744/1000 -> 0.0015873656 | K39: =H39*744*1.38 -> 164275.2 | L39: =K39/744/1000 -> 0.2208 | M39: =(I39/K39)*100 -> 0.71891558 | N39: =H39/1000*0.8-J39 -> 0.12641263
A40: 21 | B40: КТП-6/0,4кВ " ЭЦ-90" | D40: Тр №1 | E40: г.Жезказган, на территории ТОО Транко | F40: ЦЖЭС | G40: 6/0,4 | H40: 63 | I40: 10238 | J40: =I40/744/1000 -> 0.013760753 | K40: =H40*744*1.38 -> 64683.36 | L40: =K40/744/1000 -> 0.08694 | M40: =(I40/K40)*100 -> 15.827873 | N40: =H40/1000*0.8-J40 -> 0.036639247
A41: 22 | B41: КТП-6/0,4кВ"Развилка" | D41: Тр №1 | E41: п.Кенгир ст.Развилка | F41: ЦЖЭС | G41: 6/0,4 | H41: 40 | I41: 11376 | J41: =I41/744/1000 -> 0.015290323 | K41: =H41*744*1.38 -> 41068.8 | L41: =K41/744/1000 -> 0.0552 | M41: =(I41/K41)*100 -> 27.69986 | N41: =H41/1000*0.8-J41 -> 0.016709677
A42: 23 | B42: МТП-6/0,4кВ"Развилка" | D42: Тр №1 | E42: п.Кенгир ст.Развилка | F42: ЦЖЭС | G42: 6/0,4 | H42: 100 | I42: 0 | J42: =I42/744/1000 -> 0 | K42: =H42*744*1.38 -> 102672 | L42: =K42/744/1000 -> 0.138 | M42: =(I42/K42)*100 -> 0 | N42: =H42/1000*0.8-J42 -> 0.08
A43: 24 | B43: ТП-6/0,4кВ ПСРЦ(РСУ ОР) | D43: Тр №1 | E43: г.Жезказган , промзона | F43: ЦЖЭС | G43: 6/0,4 | H43: 400 | I43: 5330 | J43: =I43/744/1000 -> 0.0071639785 | K43: =H43*744*1.38 -> 410688 | L43: =K43/744/1000 -> 0.552 | M43: =(I43/K43)*100 -> 1.2978222 | N43: =H43/1000*0.8-J43 -> 0.31283602
A44: 25 | B44: КТП-6/0,4кВ Новая станция очищенных стоков | D44: Тр №1 | E44: г.Жезказган , промзона | F44: ЦЖЭС | G44: 6/0,4 | H44: 100 | I44: 0 | J44: =I44/744/1000 -> 0 | K44: =H44*744*1.38 -> 102672 | L44: =K44/744/1000 -> 0.138 | M44: =(I44/K44)*100 -> 0 | N44: =H44/1000*0.8-J44 -> 0.08
D45: Тр №2 | E45: г.Жезказган , промзона | F45: ЦЖЭС | G45: 6/0,4 | H45: 630 | I45: 0 | J45: =I45/744/1000 -> 0 | K45: =H45*744*1.38 -> 646833.6 | L45: =K45/744/1000 -> 0.8694 | M45: =(I45/K45)*100 -> 0 | N45: =H45/1000*0.8-J45 -> 0.504
...
